Workbook
Name TICKER: #REF!

Sheet SPLASH

Sheet STATISTICS
B2: =E17 -> 234 | C2: 0 | D2: DD-25-10A
C4: Transaction count
C5: CR | D5: 1 | E5: =COUNT(CR!G:G,">0") -> 4
C6: PJ | D6: =D5+1 -> 2 | E6: =COUNT(PJ!G:G,">0") -> 5
C7: CCJ | D7: =D6+1 -> 3 | E7: =COUNT(CCJ!G:G,">0") -> 8
C8: WJ | D8: =D7+1 -> 4 | E8: =COUNT(WJ!H:H,">0") -> 7
C9: CD | D9: =D8+1 -> 5 | E9: =COUNTIF(CD!L:L,"<0") -> 10
C10: SJ | D10: =D9+1 -> 6 | E10: =COUNTIF(SJ!L:L,">0") -> 5
C11: GJ | D11: =D10+1 -> 7 | E11: =COUNT(GJ!H:H,">0") -> 0
C12: BK_CDN | D12: =D11+1 -> 8 | E12: =COUNT(BK_CDN!K:K,">0") -> 78
C13: BK_US | D13: =D12+1 -> 9 | E13: =COUNT(BK_US!K:K,">0") -> 27
C14: BALFWD | D14: =D13+1 -> 10 | E14: =COUNT(BALFWD!G:G,">0") -> 90
C17: TOTAL | E17: =SUM(E5:E16) -> 234
C21: Failed login attempts
C23: Version ID | E23: DD-25-10A

Sheet REGISTRATION
B3: E Z LEDGERS INC. REGISTRATION | D3: Status
B5: Enter your registration key | C5: A5A33e9k | D5: =IF(C5="","❌ UNREGISTERED",IF(OR(C5="EZLEDGER2024",C5="ACCTPRO25",C5="BUDGETMASTER",C5="INVEST2024",C5="A5A33e9k",C5="A5M33e9k"),"✅ REGISTERED","❌ INVALID KEY")) -> ✅ REGISTERED

Sheet TABLE OF CONTENTS
C2: =UPPER(COA!B2) -> ANONYMOUS COMPANY
C3: ="FOR THE YEAR ENDED "&UPPER(TEXT(COA!$B$4,"MMMM DD, YYYY")) -> FOR THE YEAR ENDED DECEMBER 31, 2025
C4: INDEX
C7: WORKSHEET | D7: CONTENT | E7: CATEGORY
C9: Splash | D9: Go to Splash
C10: FS_2YRS | D10: COMPARATIVE 2 YEAR FINANICAL STATEMENTS | E10: FINANICAL STATEMENTS
C11: FS_5YRS | D11: COMPARATIVE 5 YEAR FINANICAL STATEMENTS
C12: Ai PROMPT AND RESPONSE | D12: Ai PROMPT AND RESPONSE | E12: AI PROMPT AND RESPONSE
C13: TB_FS | D13: GENERAL LEDGER TRAIL BALANCE BY FSLINE | E13: POWER QUERY REPORTS
C14: PT_TB | D14: GENERAL LEDGER TRAIL BALANCE
C15: PT_GL | D15: GENERAL LEDGER
C16: A | D16: CASH | E16: LEAD SHEETS
C17: A1 | D17: BANK RECONCILATION
C18: B | D18: MARKETABLE SECURITIES -HOLDINGS
C19: B.1 | D19: MARKETABLE SECURITIES TRADES
C20: C | D20: ACCOUNTS RECEIVABLE
C21: C.1 | D21: ACCOUNTS RECEIVABLE LISTING
C22: U | D22: CAPITAL ASSETS
C23: U1 | D23: CAPITAL ASSETS CONTINUITY SCHEDULE
C24: BB | D24: ACCOUNTS PAYABLE
C25: BB1 | D25: ACCOUNTS PAYABLE LISTING
C26: DD | D26: GOVERNMENT REMITTANCES
C27: FF | D27: CORPORATE INCOME TAX
C28: GG | D28: DUE TO RELATED PARTIES
... C30: UU | D30: SHAREHOLDERS' EQUITY
C31: T_Wksheet | D31: WORKING PAPER TEMPLATE | E31: TEMPLATES
C32: RPT_CHEQUE | D32: CHEQUE TEMPLATE
C33: RPT INVOICE | D33: INVOICE TEMPLATE
C34: CR | D34: CASH RECEIPTS JOURNAL | E34: BOOKS OF ORGINAL ENTRY
C35: PJ | D35: PURCHASE JOURNAL
C36: CCJ | D36: CREDIT CARD JOURNAL | BB36: =CR!BC1
C37: WJ | D37: WAGE JOURNAL
C38: WJ_SUM | D38: WAGE SUM JOURNAL
C39: CD | D39: CHEQUE DISBURSEMENTS JOURNALS
C40: SJ | D40: SALES JOURNAL
C41: GJ | D41: GENERAL JOURNAL
C42: BK_CDN | D42: CANADIAN BROKER JOURNAL
C43: BK_US | D43: US BROKER JOURNAL
C44: BALFWD | D44: OPENING BALANCES
C45: COA | D45: CHART OF ACCOUNTS | E45: MASTER FILES
...

Sheet CC
A1: =D16 -> 243 | B1: 0 | C1: DD-25-10A
B3: Transaction count
B4: CR | C4: 1 | D4: =COUNT(CR!G:G,">0") -> 4
B5: PJ | C5: =C4+1 -> 2 | D5: =COUNT(PJ!G:G,">0") -> 5
B6: CCJ | C6: =C5+1 -> 3 | D6: =COUNT(CCJ!J:J,">0") -> 16
B7: WJ | C7: =C6+1 -> 4 | D7: =COUNT(WJ!H:H,">0") -> 7
B8: CD | C8: =C7+1 -> 5 | D8: =COUNTIF(CD!L6:L41,"<0") -> 10
B9: SJ | C9: =C8+1 -> 6 | D9: =COUNTIF(SJ!L9:L35,">0") -> 4
B10: GJ | C10: =C9+1 -> 7 | D10: =COUNT(GJ!G:G,">0") -> 14
B11: BK_CDN | C11: =C10+1 -> 8 | D11: =COUNT(BK_CDN!J:J,">0") -> 67
B12: BK_US | C12: =C11+1 -> 9 | D12: =COUNT(BK_US!J:J,">0") -> 26
B13: BALFWD | C13: =C12+1 -> 10 | D13: =COUNT(BALFWD!G:G,">0") -> 90
B16: TOTAL | D16: =SUM(D4:D15) -> 243
B20: Failed login attempts
B22: Version ID | D22: DD-25-10A

Sheet AL
A1: A1: Timestamp | B1: B1: LicenseKeyAttempt | C1: C1: EventType | D1: D1: Result | E1: E1: Details | F1: F1: ExpirationInfo
A2: 45958.579 | B2: No input | C2: Registration | D2: Failed | E2: No license key entered
A3: 45958.58 | B3: No input | C3: Registration | D3: Failed | E3: No license key entered
A4: 45958.695 | B4: No input | C4: Registration | D4: Failed | E4: No license key entered
A5: 45958.737 | B5: mFCwBh60 | C5: Registration | D5: Failed | E5: Invalid type - 3rd char: C
A6: 45958.738 | B6: A5M33e9k | C6: Registration | D6: Success | E6: Type: M, Days: 31 | F6: Expires: 2025-11-28

Sheet L1
A1: LicenseKey | B1: RegistrationDate | C1: ExpirationDate | D1: LicenseType | E1: Status
A2: A5M33e9k | B2: 45958 | C2: 45989 | D2: M | E2: Active

Sheet FS_2YRS
A1: TABLE OF CONTENTS | C1: COMPARATIVE 2 YEAR FINANICAL STATEMENTS
B3: PRINT | C3: IFSL | E3: 2 | F3: 3 | G3: 4 | H3: 5
H7: =UPPER(COA!$B$2) -> ANONYMOUS COMPANY
H8: =(TEXT(COA!$B$4,"MMMM DD, YYYY")) -> December 31, 2025
H10: =UPPER(COA!$B$2) -> ANONYMOUS COMPANY
H11: CONTENTS
H12: ="For the year ended "&(TEXT(COA!$B$4,"MMMM DD, YYYY")) -> For the year ended December 31, 2025
D16: Statement of income
D17: Statement of financial position
D18: Schedules to the financial statements
D19: Schedule of Capital Assets
D20: Schedule of Long Term Debt
D21: Schedule of Operating Expenses
D22: Schedule of Other Income
G25: =#REF!*-1 -> #REF!
H28: =UPPER(COA!$B$2) -> ANONYMOUS COMPANY
H29: STATEMENT OF INCOME
H30: ="For the year ended "&(TEXT(COA!$B$4,"MMMM DD, YYYY")) -> For the year ended December 31, 2025
G31: =YEAR(COA!$B$4) -> 2025 | H31: =R_FS3[[#This Row],[ 4]]-1 -> 2024
B32: =IF(G31+H31=0,0,1) -> 1 | G32: $ | H32: $
B33: =IF(G33+H33=0,0,1) -> 0 | C33: IFSL
B35: =IF(G35+H35=0,0,1) -> 1 | C35: 8000 | D35: =UPPER(INDEX(TB_FS!C:C,MATCH(C35,TB_FS!B:B,0))) -> SALES | G35: =IFERROR(ABS(INDEX(TB_FS!D:D, MATCH(C35, TB_FS!B:B, 0))), "") -> 6261053 | H35: =IFERROR(ABS(INDEX(TB_FS!E:E, MATCH(C35, TB_FS!B:B, 0))), "") -> 6059602
D37: COST OF SALES
B38: =IF(G38+H38=0,0,1) -> 1 | C38: 8320 | D38: =(INDEX(TB_FS!C:C,MATCH(C38,TB_FS!B:B,0))) -> Purchases | G38: =IFERROR(INDEX(TB_FS!D:D, MATCH(C38, TB_FS!B:B, 0)), 0) -> 2045958 | H38: =IFERROR(INDEX(TB_FS!E:E, MATCH(C38, TB_FS!B:B, 0)), 0) -> 1885747
B39: =IF(G39+H39=0,0,1) -> 1 | C39: 8340 | D39: =(INDEX(TB_FS!C:C,MATCH(C39,TB_FS!B:B,0))) -> Direct Labour | G39: =IFERROR(INDEX(TB_FS!D:D, MATCH(C39, TB_FS!B:B, 0)), 0) -> 1552774 | H39: =IFERROR(INDEX(TB_FS!E:E, MATCH(C39, TB_FS!B:B, 0)), 0) -> 1355564
B40: =IF(G40+H40=0,0,1) -> 1 | C40: 8350 | D40: =(INDEX(TB_FS!C:C,MATCH(C40,TB_FS!B:B,0))) -> Direct Supplies | G40: =IFERROR(INDEX(TB_FS!D:D, MATCH(C40, TB_FS!B:B, 0)), 0) -> 39416 | H40: =IFERROR(INDEX(TB_FS!E:E, MATCH(C40, TB_FS!B:B, 0)), 0) -> 28304
B41: =IF(G41+H41=0,0,1) -> 1 | G41: =SUBTOTAL(109,G38:G40) -> 3638148 | H41: =SUBTOTAL(109,H38:H40) -> 3269615
B42: =IF(G42+H42=0,0,1) -> 0
B43: =IF(G43+H43=0,0,1) -> 1 | D43: GROSS PROFIT | G43: =G35-G41 -> 2622905 | H43: =H35-H41 -> 2789987
D45: GROSS PROFIT % | G45: =G43/G35 -> 0.41892394 | H45: =H43/H35 -> 0.46042413
D47: OPERATING EXPENSES
B48: =IF(G48+H48=0,0,1) -> 1 | D48: Amortization | G48: =G208 -> 166054 | H48: =H208 -> 193861
B49: =IF(G49+H49=0,0,1) -> 1 | D49: Office | G49: =G217 -> 82305 | H49: =H217 -> 58872
B50: =IF(G50+H50=0,0,1) -> 1 | D50: Salaries | G50: =G224 -> 452634 | H50: =H224 -> 841126
B51: =IF(G51+H51=0,0,1) -> 1 | D51: Finance | G51: =G229 -> 68258 | H51: =H229 -> 79290
B52: =IF(G52+H52=0,0,1) -> 1 | D52: Vehicle | G52: =G234 -> 40139 | H52: =H234 -> 45881
B53: =IF(G53+H53=0,0,1) -> 1 | D53: Premises | G53: =G242 -> 650162 | H53: =H242 -> 534457
B54: =IF(G54+H54=0,0,1) -> 1 | D54: Supplies | G54: =G247 -> 156616 | H54: =H247 -> 110714
B55: =IF(G55+H55=0,0,1) -> 1 | D55: Marketing | G55: =G253 -> 942595 | H55: =H253 -> 877643
G56: =SUM(G48:G55) -> 2558763 | H56: =SUM(H48:H55) -> 2741844
...

Sheet FS_5YRS
A1: TABLE OF CONTENTS | C1: COMPARATIVE 5 YEAR FINANICAL STATEMENTS
B3: PRINT | C3: IFSL | D3: ACCOUNT | E3: TB 1 | F3: TB 2 | G3: Cost | H3: Accumulated amortization | I3: CY | J3: PY | K3: PY2 | L3: PY3 | M3: PY4 | N3: PY5 | O3: Column2 | P3: Column3 | Q3: Column4 | R3: Column5 | S3: Column6 | T3: Column7
M7: =UPPER(COA!$B$2) -> ANONYMOUS COMPANY
M8: =(TEXT(COA!$B$4,"MMMM DD, YYYY")) -> December 31, 2025
M10: =UPPER(COA!$B$2) -> ANONYMOUS COMPANY
M11: CONTENTS
M12: ="For the year ended "&(TEXT(COA!$B$4,"MMMM DD, YYYY")) -> For the year ended December 31, 2025
D16: Statement of income
D17: Statement of financial position
D18: Schedules to the financial statements
D19: Schedule of Capital Assets
D20: Schedule of Long Term Debt
D21: Schedule of Operating Expenses
D22: Schedule of Other Income
M26: =UPPER(COA!$B$2) -> ANONYMOUS COMPANY
M27: STATEMENT OF INCOME
M28: ="For the year ended "&(TEXT(COA!$B$4,"MMMM DD, YYYY")) -> For the year ended December 31, 2025
I29: =YEAR(COA!$B$4) -> 2025 | J29: =R_FS[[#This Row],[CY]]-1 -> 2024 | K29: =R_FS[[#This Row],[PY]]-1 -> 2023 | L29: =R_FS[[#This Row],[PY2]]-1 -> 2022 | M29: =R_FS[[#This Row],[PY3]]-1 -> 2021 | N29: =R_FS[[#This Row],[PY4]]-1 -> 2020
B30: =IF(I29+J29=0,0,1) -> 1 | I30: $ | J30: $ | K30: $ | L30: $ | M30: $ | N30: $
B31: =IF(I31+J31=0,0,1) -> 0 | C31: IFSL
B32: =IF(I32+J32=0,0,1) -> 1 | C32: 8000 | D32: =UPPER(INDEX(TB_FS!C:C,MATCH(C32,TB_FS!B:B,0))) -> SALES | E32: =SUMIF(COA!$F$6:$I$173,C32,COA!$I$6:$I$173) -> -6059602.5 | F32: =SUMIF(COA!$F$6:$I$173,C32,COA!#REF!) -> #REF! | I32: =IFERROR(ABS(INDEX(TB_FS!D:D, MATCH(C32, TB_FS!B:B, 0))), "") -> 6261053 | J32: =IFERROR(ABS(INDEX(TB_FS!E:E, MATCH(C32, TB_FS!B:B, 0))), "") -> 6059602 | K32: =IFERROR(ABS(INDEX(TB_FS!F:F, MATCH(C32, TB_FS!B:B, 0))), "") -> 5668403 | L32: =IFERROR(ABS(INDEX(TB_FS!G:G, MATCH(C32, TB_FS!B:B, 0))), "") -> 5598212 | M32: =IFERROR(ABS(INDEX(TB_FS!H:H, MATCH(C32, TB_FS!B:B, 0))), "") -> 4331407 | N32: =IFERROR(ABS(INDEX(TB_FS!I:I, MATCH(D32, TB_FS!C:C, 0))), "") -> 0
D33: COST OF SALES | E33: =SUMIF(COA!$F$6:$I$173,C33,COA!$I$6:$I$173) -> 0 | F33: =SUMIF(COA!$F$6:$I$173,C33,COA!#REF!) -> #REF!
B34: =IF(I34+J34=0,0,1) -> 1 | C34: 8320 | D34: =(INDEX(TB_FS!C:C,MATCH(C34,TB_FS!B:B,0))) -> Purchases | I34: =IFERROR(INDEX(TB_FS!D:D, MATCH(C34, TB_FS!B:B, 0)), 0) -> 2045958 | J34: =IFERROR(INDEX(TB_FS!E:E, MATCH(C34, TB_FS!B:B, 0)), 0) -> 1885747 | K34: =IFERROR(ABS(INDEX(TB_FS!F:F, MATCH(C34, TB_FS!B:B, 0))), "") -> 1778869 | L34: =IFERROR(ABS(INDEX(TB_FS!G:G, MATCH(C34, TB_FS!B:B, 0))), "") -> 1940017 | M34: =IFERROR(ABS(INDEX(TB_FS!H:H, MATCH(C34, TB_FS!B:B, 0))), "") -> 1538246 | N34: =IFERROR(ABS(INDEX(TB_FS!I:I, MATCH(D33, TB_FS!C:C, 0))), "")
B35: =IF(I35+J35=0,0,1) -> 1 | C35: 8350 | D35: =(INDEX(TB_FS!C:C,MATCH(C35,TB_FS!B:B,0))) -> Direct Supplies | I35: =IFERROR(INDEX(TB_FS!D:D, MATCH(C35, TB_FS!B:B, 0)), 0) -> 39416 | J35: =IFERROR(INDEX(TB_FS!E:E, MATCH(C35, TB_FS!B:B, 0)), 0) -> 28304 | K35: =IFERROR(ABS(INDEX(TB_FS!F:F, MATCH(C35, TB_FS!B:B, 0))), "") -> 33732 | L35: =IFERROR(ABS(INDEX(TB_FS!G:G, MATCH(C35, TB_FS!B:B, 0))), "") -> 34454 | M35: =IFERROR(ABS(INDEX(TB_FS!H:H, MATCH(C35, TB_FS!B:B, 0))), "") -> 54219 | N35: =IFERROR(ABS(INDEX(TB_FS!I:I, MATCH(D34, TB_FS!C:C, 0))), "") -> 0
B36: =IF(I36+J36=0,0,1) -> 1 | C36: 8340 | D36: =(INDEX(TB_FS!C:C,MATCH(C36,TB_FS!B:B,0))) -> Direct Labour | I36: =IFERROR(INDEX(TB_FS!D:D, MATCH(C36, TB_FS!B:B, 0)), 0) -> 1552774 | J36: =IFERROR(INDEX(TB_FS!E:E, MATCH(C36, TB_FS!B:B, 0)), 0) -> 1355564 | K36: =IFERROR(ABS(INDEX(TB_FS!F:F, MATCH(C36, TB_FS!B:B, 0))), "") -> 1241497 | L36: =IFERROR(ABS(INDEX(TB_FS!G:G, MATCH(C36, TB_FS!B:B, 0))), "") -> 1196412 | M36: =IFERROR(ABS(INDEX(TB_FS!H:H, MATCH(C36, TB_FS!B:B, 0))), "") -> 1037511 | N36: =IFERROR(ABS(INDEX(TB_FS!I:I, MATCH(D35, TB_FS!C:C, 0))), "") -> 0
B37: =IF(I37+J37=0,0,1) -> 1 | I37: =SUM(I34:I36) -> 3638148 | J37: =SUM(J34:J36) -> 3269615 | K37: =SUM(K34:K36) -> 3054098 | L37: =SUM(L34:L36) -> 3170883 | M37: =SUM(M34:M36) -> 2629976 | N37: =SUM(N34:N36) -> 0
B39: =IF(I39+J39=0,0,1) -> 1 | D39: GROSS PROFIT | E39: =E32+E33 -> -6059602.5 | F39: =F32+F33 -> #REF! | I39: =I32-I37 -> 2622905 | J39: =J32-J37 -> 2789987 | K39: =K32-K37 -> 2614305 | L39: =L32-L37 -> 2427329 | M39: =M32-M37 -> 1701431 | N39: =N32-N37 -> 0
B41: 1 | D41: GROSS PROFIT % | I41: =I39/I32 -> 0.41892394 | J41: =J39/J32 -> 0.46042413 | K41: =K39/K32 -> 0.46120662 | L41: =L39/L32 -> 0.43359005 | M41: =M39/M32 -> 0.39281254
D43: OPERATING EXPENSES
B44: =IF(I44+J44=0,0,1) -> 1 | D44: Amortization | E44: =I194 -> 166054 | F44: =J194 -> 193861 | I44: =I194 -> 166054 | J44: =J194 -> 193861 | K44: =K194 -> 2177 | L44: =L194 -> 189505 | M44: =M194 -> 125998 | N44: =N194 -> 0
B45: =IF(I45+J45=0,0,1) -> 1 | D45: Office | E45: =I204 -> 82305 | F45: =J204 -> 58872 | I45: =I204 -> 82305 | J45: =J204 -> 58872 | K45: =K204 -> 73739 | L45: =L204 -> 46430 | M45: =M204 -> 41294 | N45: =N204 -> 0
B46: =IF(I46+J46=0,0,1) -> 1 | D46: Salaries | E46: =I211 -> 452634 | F46: =J211 -> 841126 | I46: =I211 -> 452634 | J46: =J211 -> 841126 | K46: =K211 -> 648419 | L46: =L211 -> 415745 | M46: =M211 -> 348695 | N46: =N211 -> 0
B47: =IF(I47+J47=0,0,1) -> 1 | D47: Finance | E47: =I216 -> 68258 | F47: =J216 -> 79290 | I47: =I216 -> 68258 | J47: =J216 -> 79290 | K47: =K216 -> 49804 | L47: =L216 -> 53779 | M47: =M216 -> 26867 | N47: =N216 -> 0
B48: =IF(I48+J48=0,0,1) -> 1 | D48: Vehicle | E48: =I222 -> 40139 | F48: =J222 -> 45881 | I48: =I222 -> 40139 | J48: =J222 -> 45881 | K48: =K222 -> 53334 | L48: =L222 -> 48209 | M48: =M222 -> 44379 | N48: =N222 -> 0
B49: =IF(I49+J49=0,0,1) -> 1 | D49: Premises | E49: =I230 -> 650162 | F49: =J230 -> 534457 | I49: =I230 -> 650162 | J49: =J230 -> 534457 | K49: =K230 -> 490110 | L49: =L230 -> 460359 | M49: =M230 -> 379349 | N49: =N230 -> 0
B50: =IF(I50+J50=0,0,1) -> 1 | D50: Supplies | E50: =I241 -> 156616 | F50: =J241 -> 110714 | I50: =I241 -> 156616 | J50: =J241 -> 110714 | K50: =K241 -> 104321 | L50: =L241 -> 85061 | M50: =M241 -> 61611 | N50: =N241 -> 0
D51: Marketing | E51: =I247 -> 942595 | F51: =J247 -> 877643 | I51: =I247 -> 942595 | J51: =J247 -> 877643 | K51: =K247 -> 788986 | L51: =L247 -> 738377 | M51: =M247 -> 566423 | N51: =N247 -> 0
E52: =SUM(E44:E51) -> 2558763 | F52: =SUM(F44:F51) -> 2741844 | I52: =SUM(I44:I51) -> 2558763 | J52: =SUM(J44:J51) -> 2741844 | K52: =SUM(K44:K51) -> 2210890 | L52: =SUM(L44:L51) -> 2037465 | M52: =SUM(M44:M51) -> 1594616 | N52: =SUM(N44:N51) -> 0
B54: 1 | D54: OPERATING INCOME | E54: =E39+E52 -> -3500839.5 | F54: =F39+F52 -> #REF! | I54: =I39-I52 -> 64142 | J54: =J39-J52 -> 48143 | K54: =K39-K52 -> 403415 | L54: =L39-L52 -> 389864 | M54: =M39-M52 -> 106815 | N54: =N39-N52 -> 0
B55: 0
...

Sheet Ai PROMPT AND RESPONSE
A1: TABLE OF CONTENTS | C1: Ai PROMPT AND RESPONSE | L1: Index
B2: =UPPER(COA!B2) -> ANONYMOUS COMPANY
B3: ="FOR THE YEAR ENDED "&UPPER(TEXT(COA!$B$4,"MMMM DD, YYYY")) -> FOR THE YEAR ENDED DECEMBER 31, 2025
B4: Ai insites to the 5 year Financial statements
B6: THE PURPOSE OF THIS WORKSHEET IS TO Document the Ai Prompt and to record their response
B8: 📌 Ai PROMPT
B9: I have the five year financial statements for anonymous company ending in December 31, 2024 which I will attach as a PDF file to this prompt. This company operates a chain of franchised fast food restaurants in the Detroit area and I need an operating review. Please match their results with what you would expect and provide a detailed report together with an executive summary.
B13: 📌 Executive Summary
B15: Anonymous Company has demonstrated steady top-line growth over the five-year period, with sales increasing from $4.33M in 2020 to $6.26M in 2024—a compound annual growth rate (CAGR) of approximately 9.2%, which is healthy for a regional fast food chain. However, profitability has been inconsistent, with net income fluctuating and margins narrowing in recent years. Key concerns include rising operating expenses, declining gross margins, and elevated marketing and premises costs. The company’s capital structure remains stable, though liquidity has weakened in 2024. Overall, while growth is evident, operational efficiency and cost control need attention to sustain profitability.
B19: 📊 Detailed Operating Review
B21: 1. Revenue Trends
B23: Sales Growth: From $4.33M in 2020 to $6.26M in 2024.
B24: This growth aligns with expectations for a regional fast food chain expanding its footprint or increasing same-store sales.
B25: Year-over-Year Growth:
B26: 2021–2022: +1.25%
... B84: Benchmarking: Compare performance with similar regional franchises to identify best practices.

Sheet TB_FS
A1: TABLE OF CONTENTS | C1: =B4 -> GENERAL LEDGER TRAIL BALANCE BY FSLINE
B2: =UPPER(COA!B2) -> ANONYMOUS COMPANY | J2: TB_FS
B3: ="FOR THE YEAR ENDED "&UPPER(TEXT(COA!$B$4,"MMMM DD, YYYY")) -> FOR THE YEAR ENDED DECEMBER 31, 2025
B4: GENERAL LEDGER TRAIL BALANCE BY FSLINE
B6: THE PURPOSE OF THIS WORKSHEET IS TO: General ledger trial balance recast by FSLine and rounded
B8: IFSL | C8: FS_LINE | D8: Total CY | E8: Total PY1 | F8: Total PY2 | G8: Total PY3 | H8: Total PY4 | I8: Total PY5
B9: 00H1 | C9: CURRENT ASSETS | D9: 0 | E9: 0
B10: 1002 | C10: Cash | D10: 77184 | E10: 509493 | F10: 408632 | G10: 219150 | H10: 152840 | I10: 0
B11: 1180 | C11: Marketable securities | D11: 136668 | E11: 119850 | F11: 0 | G11: 0 | H11: 130959 | I11: 0
B12: 1060 | C12: Accounts receivable | D12: 53399 | E12: 14544 | F12: 9706 | G12: 5159 | H12: 14015 | I12: 0
B13: 1146 | C13: Acct Rec - Shareholder | D13: 0 | E13: 0 | F13: 0 | G13: 0 | H13: 0 | I13: 0
B14: 1121 | C14: Inventory | D14: 38350 | E14: 49573 | F14: 39575 | G14: 39575 | H14: 35717 | I14: 0
B15: 1484 | C15: Prepaid expense | D15: 9932 | E15: 9433 | F15: 8216 | G15: 29115 | H15: 32580 | I15: 0
B16: 00H2 | C16: CAPITAL ASSETS | D16: 0 | E16: 0 | F16: 0 | G16: 0 | H16: 0 | I16: 0
B17: 1600 | C17: Land | D17: 0 | E17: 0 | F17: 0 | G17: 0 | H17: 0 | I17: 0
B18: 1680 | C18: Building | D18: 0 | E18: 0 | F18: 0 | G18: 0 | H18: 0 | I18: 0
B19: 1681 | C19: Accumulated amortization Building | D19: 0 | E19: 0 | F19: 0 | G19: 0 | H19: 0 | I19: 0
B20: 1787 | C20: Furniture | D20: 0 | E20: 0 | F20: 0 | G20: 0 | H20: 0 | I20: 0
B21: 1788 | C21: Accumulated amortization Furniture | D21: 0 | E21: 0 | F21: 0 | G21: 0 | H21: 0 | I21: 0
... B117: 9990 | C117: Current Income tax | D117: 13 | E117: 13961 | F117: 116990 | G117: 113061 | H117: 30976 | I117: 0
D118: 0

Sheet PT_TB
A1: TABLE OF CONTENTS | C1: =B4 -> GENERAL LEDGER TRAIL BALANCE
B2: =UPPER(COA!B2) -> ANONYMOUS COMPANY | E2: TB
B3: ="FOR THE YEAR ENDED "&UPPER(TEXT(COA!$B$4,"MMMM DD, YYYY")) -> FOR THE YEAR ENDED DECEMBER 31, 2025
B4: GENERAL LEDGER TRAIL BALANCE
B6: THE PURPOSE OF THIS WORKSHEET IS TO: LIST BALANCES OF GENERAL LEDGER BY ACCOUNT
B8: ACCOUNT | C8: Sum of AMOUNT
B9: 1101 Cash on hand | C9: 24875.53
B10: 1102 General Bank Account | C10: 52308.04
B11: 1119 Bank Transfer Account | C11: 0
B12: 1120 Broker CDN Cash | C12: 155.05
B13: 1121 Broker US Cash | C13: -22252.45
B14: 1131 Broker CDN Securities | C14: 25912.75
B15: 1132 Broker US Securities | C15: 114436.93
B16: 1139 Exchange/mark to market | C16: 18415
B17: 1140 Accounts Receivable | C17: 8572.5
B18: 1141 Miscellaneous receivables | C18: 44826.56
B19: 1300 Inventory | C19: 38349.98
B20: 1484 Prepaid expenses | C20: 9931.62
... B108: Grand Total | C108: 5.0840754e-10
C111: =SUM(C50:C104) -> -100417.07
I159: 0
I160: 0
I161: 0

Sheet PT_GL
A1: TABLE OF CONTENTS | C1: =B4 -> GENERAL LEDGER
B2: =UPPER(COA!B2) -> ANONYMOUS COMPANY | J2: GL
B3: ="FOR THE YEAR ENDED "&UPPER(TEXT(COA!$B$4,"MMMM DD, YYYY")) -> FOR THE YEAR ENDED DECEMBER 31, 2025
B4: GENERAL LEDGER
B6: THE PURPOSE OF THIS WORKSHEET IS TO: LIST ALL TRANSACTIONS BY GENERAL LEDGER ACCOUNT
C8: GENERAL LEDGER
B9: ACCOUNT | C9: REF | D9: DATE | E9: SOURCE | F9: Sum of AMOUNT
B10: 1101 Cash on hand | C10: BF-01 | D10: 45657 | E10: BF | F10: 24875.53
B11: 1101 Cash on hand Total | F11: 24875.53
B12: 1102 General Bank Account | C12: BF-01 | D12: 45657 | E12: BF | F12: 63334.97
C13: 250499 | D13: 46022 | E13: CR | F13: 15261.25
C14: 251299 | D14: 221338 | E14: CD | F14: -26288.18
B15: 1102 General Bank Account Total | F15: 52308.04
B16: 1119 Bank Transfer Account | C16: 2004 | D16: 45658 | E16: BK-US | F16: 176.75
E17: BK-CDN | F17: -2778.58
C18: 2005 | D18: 45658 | E18: BK-US | F18: -94233.04
E19: BK-CDN | F19: -22661.04
C20: 2006 | D20: 45658 | E20: BK-US | F20: 94056.29
E21: BK-CDN | F21: 25439.62
B22: 1119 Bank Transfer Account Total | F22: 0
B23: 1120 Broker CDN Cash | C23: BF-01 | D23: 45657 | E23: BF | F23: 2778.58
C24: 2000 | D24: 46022 | E24: BK-CDN | F24: -112934.77
C25: 2001 | D25: 46022 | E25: BK-CDN | F25: 110311.24
B26: 1120 Broker CDN Cash Total | F26: 155.05
B27: 1121 Broker US Cash | C27: BF-01 | D27: 45657 | E27: BF | F27: 176.75
C28: 2000 | D28: 46022 | E28: BK-US | F28: -74940.06
C29: 2001 | D29: 46022 | E29: BK-US | F29: 52510.86
B30: 1121 Broker US Cash Total | F30: -22252.45
B31: 1131 Broker CDN Securities | C31: BF-01 | D31: 45657 | E31: BF | F31: 22661.04
C32: 112 | D32: 45659 | E32: BK-CDN | F32: 7.64
C33: 120 | D33: 45679 | E33: BK-CDN | F33: 15011.33
C34: 122 | D34: 45686 | E34: BK-CDN | F34: 12079.18
C35: 123 | D35: 45686 | E35: BK-CDN | F35: 3541.84
C36: 126 | D36: 45687 | E36: BK-CDN | F36: 6151.37
C37: 127 | D37: 45687 | E37: BK-CDN | F37: 5749.84
C38: 129 | D38: 45693 | E38: BK-CDN | F38: 8890.54
C39: 134 | D39: 45698 | E39: BK-CDN | F39: 6079.31
C40: 137 | D40: 45702 | E40: BK-CDN | F40: 489
C41: 140 | D41: 45709 | E41: BK-CDN | F41: 15619.8
C42: 142 | D42: 45719 | E42: BK-CDN | F42: 4816.12
...

Sheet A
A1: TABLE OF CONTENTS | C1: =F5 -> CASH
A2: A1
F4: =UPPER(COA!B2) -> ANONYMOUS COMPANY | I4: =MID(A2,1,1) -> A
F5: =UPPER(_xlfn.XLOOKUP(A2,COA!G1:G174,COA!I1:I174)) -> CASH
F6: ="FOR THE YEAR ENDED "&UPPER(TEXT(COA!$B$4,"MMMM DD, YYYY")) -> FOR THE YEAR ENDED DECEMBER 31, 2025
B9: Helper columns | F9: Account | G9: =YEAR(COA!B4) -> 2025 | H9: =G9-1 -> 2024
B10: Match | C10: Count | D10: Concat
B11: =IFERROR(MATCH(D11,M_COA[LSheetID],0),"") -> 2 | C11: =1 -> 1 | D11: =_xlfn.CONCAT($I$4,C11) -> A1 | F11: {=IFERROR(INDEX(M_COA[ACCOUNT],B11),0)} -> 1101 Cash on hand | G11: {=IFERROR(INDEX(M_COA[CY],B11),0)} -> 24875.53 | H11: {=IFERROR(INDEX(M_COA[PY1],B11),0)} -> 34282.13
B12: =IFERROR(MATCH(D12,M_COA[LSheetID],0),"") -> 3 | C12: =C11+1 -> 2 | D12: =_xlfn.CONCAT($I$4,C12) -> A2 | F12: {=IFERROR(INDEX(M_COA[ACCOUNT],B12),0)} -> 1102 General Bank Account | G12: {=IFERROR(INDEX(M_COA[CY],B12),0)} -> 52308.04 | H12: {=IFERROR(INDEX(M_COA[PY1],B12),0)} -> 475211.08
B13: =IFERROR(MATCH(D13,M_COA[LSheetID],0),"") -> 4 | C13: =C12+1 -> 3 | D13: =_xlfn.CONCAT($I$4,C13) -> A3 | F13: {=IFERROR(INDEX(M_COA[ACCOUNT],B13),0)} -> 1103 BMO Overdraft | G13: {=IFERROR(INDEX(M_COA[CY],B13),0)} -> 0 | H13: {=IFERROR(INDEX(M_COA[PY1],B13),0)} -> 0
B14: =IFERROR(MATCH(D14,M_COA[LSheetID],0),"") -> 5 | C14: =C13+1 -> 4 | D14: =_xlfn.CONCAT($I$4,C14) -> A4 | F14: {=IFERROR(INDEX(M_COA[ACCOUNT],B14),0)} -> 1119 Bank Transfer Account | G14: {=IFERROR(INDEX(M_COA[CY],B14),0)} -> 0 | H14: {=IFERROR(INDEX(M_COA[PY1],B14),0)} -> 0
B15: =IFERROR(MATCH(D15,M_COA[LSheetID],0),"") | C15: =C14+1 -> 5 | D15: =_xlfn.CONCAT($I$4,C15) -> A5 | F15: {=IFERROR(INDEX(M_COA[ACCOUNT],B15),0)} -> 0 | G15: {=IFERROR(INDEX(M_COA[CY],B15),0)} -> 0 | H15: {=IFERROR(INDEX(M_COA[PY1],B15),0)} -> 0
B16: =IFERROR(MATCH(D16,M_COA[LSheetID],0),"")
G17: =SUM(G11:G15) -> 77183.57 | H17: =SUM(H11:H15) -> 509493.21
G19: TB

Sheet A1
A1: TABLE OF CONTENTS | C1: BANK RECONCILATION
B2: =COA!$B$2 -> ANONYMOUS COMPANY | G2: A.1
B3: BANK RECONCILATION
B4: 1102 General Bank Account
B5: ="AS AT "&UPPER(TEXT(COA!B4,"MMMM DD, YYYY")) -> AS AT DECEMBER 31, 2025
B7: The purpose of this worksheet is to documnet the bank reconcilation for the bank account noted incell "B4" above. There are three tables on this worksheet - the bank reconcilation (table 1) a listing of outstanding deposits (table 2) and cheques Table 3). Column "B" in Table 2 nad 3 is a sequential numbers. On the Receipts Journal (Worksheet CR) column "J" notes that the deposit was matched to the bank statement and all uncleared deposits are sequentially numbered in Comumn "H" . All uncleaned deposits are listed in table 2 using the number in Column "B" below and the VLOOKUP function Columns "C", "D", "E" and "F" are updated. On the Cheque Disbursements Journal (Worksheet CD) column "M" notes that the cheques where matched to the bank statement and all uncleared cheques are sequentially numbered in Comumn "B" . All uncleaned Cheques are listed in table 3 using the number in Column "B" below and the VLOOKUP function Columns "C", "D", "E" and "F" are updated. Table 1 is manually updated from the bank statement while the total of the outstanding cheques and depodits are automatically updated The true bank balance is automatically computed and matched to the general ledger. Any diffeence is shown in Cell "F33" The GL account Balance is computed on a pivot table and it is important to refresh the data to ensure that the GL reflects all entries..
C13: Column1 | D13: Column12 | E13: Column2 | F13: Column3 | G13: Column4
B14: BALANCE AS PER BANK STATEMENT | F14: 42308.04
B15: ADD O/S DEPOSITS | F15: =F41 -> 10000
B17: SUB TOTAL | F17: =F16+F15+F14 -> 52308.04
B20: LESS O/S CHEQUES | F20: =F59 -> 0
B22: BALANCE AS PER GENERAL LEDGER | F22: =SUM(F17:F20) -> 52308.04 | G22: T/B
A25: Match | B25: BALANCE AS PER GENERAL LEDGER
A26: =IFERROR(MATCH(B26,M_COA[ACCOUNT],0),"") -> 3 | B26: 1102 General Bank Account | F26: {=IFERROR(INDEX(M_COA[CY],A26),0)} -> 52308.04
F27: 0
F28: 0
F29: 0
B31: ADJSUTED GENERAL LEDGER BALANCE | F31: =SUM(F25:F30) -> 52308.04
B33: DIFFERENCE | F33: =F22-F31 -> 0
B36: LIST OF OUTSTANDING DEPOSITS
B37: O/S DEPOSIT | C37: REF | D37: RECEIPT | E37: DATE | F37: AMOUNT
B38: 1 | C38: {=IFERROR(_xlfn.XLOOKUP(B38,CR!J6:J18,CR!D6:$D18,0),0)} -> 250501 | D38: {=IFERROR(_xlfn.XLOOKUP(B38,CR!$J$6:'CR'!J18,CR!$F$6:F18,0)," ")} -> BIG BAD WOLF INC | E38: {=IF(F38=0," ",(_xlfn.XLOOKUP(B38,CR!$J$6:J18,CR!$C$6:C18,0)))} -> 45782 | F38: {=IFERROR(_xlfn.XLOOKUP(B38,CR!J6:J18,CR!$G$6:G18,0),0)} -> 10000
B39: =B38+1 -> 2 | C39: {=IFERROR(_xlfn.XLOOKUP(B39,CR!#REF!,CR!D$6:$D25,0),0)} -> 0 | D39: {=IFERROR(_xlfn.XLOOKUP(B39,CR!#REF!,CR!$F$6:F25,0)," ")} | E39: {=IF(F39=0," ",(_xlfn.XLOOKUP(B39,CR!#REF!,CR!$C$6:C25,0)))} | F39: {=IFERROR(_xlfn.XLOOKUP(B39,CR!#REF!,CR!$G$6:G25,0),0)} -> 0
B40: =B39+1 -> 3 | C40: {=IFERROR(_xlfn.XLOOKUP(B40,CR!#REF!,CR!D$6:$D20,0),0)} -> 0 | D40: {=IFERROR(_xlfn.XLOOKUP(B40,CR!#REF!,CR!$F$6:F20,0)," ")} | E40: {=IF(F40=0," ",(_xlfn.XLOOKUP(B40,CR!#REF!,CR!$C$6:C20,0)))} | F40: {=IFERROR(_xlfn.XLOOKUP(B40,CR!#REF!,CR!$G$6:G20,0),0)} -> 0
C41: {=IFERROR(_xlfn.XLOOKUP(B41,CR!#REF!,CR!D$6:$D20,0),0)} -> 0 | D41: {=IFERROR(_xlfn.XLOOKUP(B41,CR!#REF!,CR!$F$6:F20,0)," ")} | F41: =SUBTOTAL(109,F38:F40) -> 10000
B43: LIST OF OUTSTANDING CHEQUES
C44: CHEQUE # | D44: PAYEE | E44: DATE | F44: AMOUNT
B45: 1 | C45: =IFERROR(VLOOKUP(B45,CD!#REF!,4,0),0) -> 0 | D45: =IFERROR(VLOOKUP(B45,CD!#REF!,8,0),0) -> 0 | E45: =IFERROR(VLOOKUP(B45,CD!#REF!,2,0)," ") | F45: =IFERROR(VLOOKUP(B45,CD!#REF!,11,0),0) -> 0
B46: =B45+1 -> 2 | C46: =IFERROR(VLOOKUP(B46,CD!#REF!,4,0),0) -> 0 | D46: =IFERROR(VLOOKUP(B46,CD!#REF!,8,0),0) -> 0 | E46: =IFERROR(VLOOKUP(B46,CD!#REF!,2,0)," ") | F46: =IFERROR(VLOOKUP(B46,CD!#REF!,11,0),0) -> 0
B47: =B46+1 -> 3 | C47: =IFERROR(VLOOKUP(B47,CD!#REF!,4,0),0) -> 0 | D47: =IFERROR(VLOOKUP(B47,CD!#REF!,8,0),0) -> 0 | E47: =IFERROR(VLOOKUP(B47,CD!#REF!,2,0)," ") | F47: =IFERROR(VLOOKUP(B47,CD!#REF!,11,0),0) -> 0
B48: =B47+1 -> 4 | C48: =IFERROR(VLOOKUP(B48,CD!#REF!,4,0),0) -> 0 | D48: =IFERROR(VLOOKUP(B48,CD!#REF!,8,0),0) -> 0 | E48: =IFERROR(VLOOKUP(B48,CD!#REF!,2,0)," ") | F48: =IFERROR(VLOOKUP(B48,CD!#REF!,11,0),0) -> 0
B49: =B48+1 -> 5 | C49: =IFERROR(VLOOKUP(B49,CD!#REF!,4,0),0) -> 0 | D49: =IFERROR(VLOOKUP(B49,CD!#REF!,8,0),0) -> 0 | E49: =IFERROR(VLOOKUP(B49,CD!#REF!,2,0)," ") | F49: =IFERROR(VLOOKUP(B49,CD!#REF!,11,0),0) -> 0
B50: =B49+1 -> 6 | C50: =IFERROR(VLOOKUP(B50,CD!#REF!,4,0),0) -> 0 | D50: =IFERROR(VLOOKUP(B50,CD!#REF!,8,0),0) -> 0 | E50: =IFERROR(VLOOKUP(B50,CD!#REF!,2,0)," ") | F50: =IFERROR(VLOOKUP(B50,CD!#REF!,11,0),0) -> 0
B51: =B50+1 -> 7 | C51: =IFERROR(VLOOKUP(B51,CD!#REF!,4,0),0) -> 0 | D51: =IFERROR(VLOOKUP(B51,CD!#REF!,8,0),0) -> 0 | E51: =IFERROR(VLOOKUP(B51,CD!#REF!,2,0)," ") | F51: =IFERROR(VLOOKUP(B51,CD!#REF!,11,0),0) -> 0
B52: =B51+1 -> 8 | C52: =IFERROR(VLOOKUP(B52,CD!#REF!,4,0),0) -> 0 | D52: =IFERROR(VLOOKUP(B52,CD!#REF!,8,0),0) -> 0 | E52: =IFERROR(VLOOKUP(B52,CD!#REF!,2,0)," ") | F52: =IFERROR(VLOOKUP(B52,CD!#REF!,11,0),0) -> 0
B53: =B52+1 -> 9 | C53: =IFERROR(VLOOKUP(B53,CD!#REF!,4,0),0) -> 0 | D53: =IFERROR(VLOOKUP(B53,CD!#REF!,8,0),0) -> 0 | E53: =IFERROR(VLOOKUP(B53,CD!#REF!,2,0)," ") | F53: =IFERROR(VLOOKUP(B53,CD!#REF!,11,0),0) -> 0
B54: =B53+1 -> 10 | C54: =IFERROR(VLOOKUP(B54,CD!#REF!,4,0),0) -> 0 | D54: =IFERROR(VLOOKUP(B54,CD!#REF!,8,0),0) -> 0 | E54: =IFERROR(VLOOKUP(B54,CD!#REF!,2,0)," ") | F54: =IFERROR(VLOOKUP(B54,CD!#REF!,11,0),0) -> 0
B55: =B54+1 -> 11 | C55: =IFERROR(VLOOKUP(B55,CD!#REF!,4,0),0) -> 0 | D55: =IFERROR(VLOOKUP(B55,CD!#REF!,8,0),0) -> 0 | E55: =IFERROR(VLOOKUP(B55,CD!#REF!,2,0)," ") | F55: =IFERROR(VLOOKUP(B55,CD!#REF!,11,0),0) -> 0
B56: =B55+1 -> 12 | C56: =IFERROR(VLOOKUP(B56,CD!#REF!,4,0),0) -> 0 | D56: =IFERROR(VLOOKUP(B56,CD!#REF!,8,0),0) -> 0 | E56: =IFERROR(VLOOKUP(B56,CD!#REF!,2,0)," ") | F56: =IFERROR(VLOOKUP(B56,CD!#REF!,11,0),0) -> 0
B57: =B56+1 -> 13 | C57: =IFERROR(VLOOKUP(B57,CD!#REF!,4,0),0) -> 0 | D57: =IFERROR(VLOOKUP(B57,CD!#REF!,8,0),0) -> 0 | E57: =IFERROR(VLOOKUP(B57,CD!#REF!,2,0)," ") | F57: =IFERROR(VLOOKUP(B57,CD!#REF!,11,0),0) -> 0
...

Sheet B
A1: TABLE OF CONTENTS | C1: MARKETABLE SECURITIES -HOLDINGS
A2: B1 | I2: =MID(A2,1,1) -> B
F4: =UPPER(COA!B2) -> ANONYMOUS COMPANY
F5: =UPPER(_xlfn.XLOOKUP(A2,COA!G1:G174,COA!I1:I174)) -> MARKETABLE SECURITIES
F6: ="FOR THE YEAR ENDED "&UPPER(TEXT(COA!$B$4,"MMMM DD, YYYY")) -> FOR THE YEAR ENDED DECEMBER 31, 2025
B9: Helper columns | F9: Account | M9: =YEAR(COA!B4) -> 2025 | N9: =M9-1 -> 2024
B10: Match | C10: Count | D10: Concat
B11: =IFERROR(MATCH(D11,M_COA[LSheetID],0),"") -> 6 | C11: =1 -> 1 | D11: =_xlfn.CONCAT($I$2,C11) -> B1 | F11: {=IFERROR(INDEX(M_COA[ACCOUNT],B11),0)} -> 1120 Broker CDN Cash | M11: {=IFERROR(INDEX(M_COA[CY],B11),0)} -> 155.05 | N11: {=IFERROR(INDEX(M_COA[PY1],B11),0)} -> 2778.58
B12: =IFERROR(MATCH(D12,M_COA[LSheetID],0),"") -> 7 | C12: =C11+1 -> 2 | D12: =_xlfn.CONCAT($I$2,C12) -> B2 | F12: {=IFERROR(INDEX(M_COA[ACCOUNT],B12),0)} -> 1121 Broker US Cash | M12: {=IFERROR(INDEX(M_COA[CY],B12),0)} -> -22252.45 | N12: {=IFERROR(INDEX(M_COA[PY1],B12),0)} -> 176.75
B13: =IFERROR(MATCH(D13,M_COA[LSheetID],0),"") -> 8 | C13: =C12+1 -> 3 | D13: =_xlfn.CONCAT($I$2,C13) -> B3 | F13: {=IFERROR(INDEX(M_COA[ACCOUNT],B13),0)} -> 1131 Broker CDN Securities | M13: {=IFERROR(INDEX(M_COA[CY],B13),0)} -> 25912.75 | N13: {=IFERROR(INDEX(M_COA[PY1],B13),0)} -> 22661.04
B14: =IFERROR(MATCH(D14,M_COA[LSheetID],0),"") -> 9 | C14: =C13+1 -> 4 | D14: =_xlfn.CONCAT($I$2,C14) -> B4 | F14: {=IFERROR(INDEX(M_COA[ACCOUNT],B14),0)} -> 1132 Broker US Securities | M14: {=IFERROR(INDEX(M_COA[CY],B14),0)} -> 114436.93 | N14: {=IFERROR(INDEX(M_COA[PY1],B14),0)} -> 94233.04
B15: =IFERROR(MATCH(D15,M_COA[LSheetID],0),"") -> 10 | C15: =C14+1 -> 5 | D15: =_xlfn.CONCAT($I$2,C15) -> B5 | F15: {=IFERROR(INDEX(M_COA[ACCOUNT],B15),0)} -> 1139 Exchange/mark to market | M15: {=IFERROR(INDEX(M_COA[CY],B15),0)} -> 18415 | N15: {=IFERROR(INDEX(M_COA[PY1],B15),0)} -> 0
B16: =IFERROR(MATCH(D16,M_COA[LSheetID],0),"")
M17: =SUM(M11:M15) -> 136667.28 | N17: =SUM(N11:N15) -> 119849.41
G21: HOLDING REF | H21: SYMBOL | I21: QTY | J21: ACB | K21: MKT | L21: HOLDING GAIN (LOSS) | M21: MKT VALUE | P21: SECURITY (The stock sybmbol must enterd manually than with that cell selected get the name by clicking Stocks on the Data Tab) | Q21: PRICE
G23: CANADIAN
G24: 1 | H24: =_xlfn.LET(_xlpm.RESULT,_xlfn.XLOOKUP(G24,BK_CDN!$N$10:$N$84,BK_CDN!$M$10:$M$84,0),IF(_xlpm.RESULT=0,"",_xlpm.RESULT)) -> XFN | I24: =_xlfn.LET(_xlpm.RESULT,_xlfn.XLOOKUP(G24,BK_CDN!$N$10:$N$84,BK_CDN!$AL$10:$AL$84,0),IF(_xlpm.RESULT=0,"",_xlpm.RESULT)) -> 100 | J24: =_xlfn.LET(_xlpm.RESULT,(_xlfn.XLOOKUP(G24,BK_CDN!$N$10:$N$84,BK_CDN!$AM$10:$AM$84,0)),IF(_xlpm.RESULT=0,"",_xlpm.RESULT)) -> 5060.25 | K24: 76.51 | L24: =IFERROR(Table24[[#This Row],[MKT VALUE]]-Table24[[#This Row],[ACB]],"") -> 2590.75 | M24: =IFERROR(Table24[[#This Row],[MKT]]*Table24[[#This Row],[QTY]],"") -> 7651 | N24: {=IFERROR(_FV(#REF!,"Price"),"")} | P24: #VALUE! | Q24: {=_FV(P24,"Price")} -> 71.92
G25: =G24+1 -> 2 | H25: =_xlfn.LET(_xlpm.RESULT,_xlfn.XLOOKUP(G25,BK_CDN!$N$10:$N$84,BK_CDN!$M$10:$M$84,0),IF(_xlpm.RESULT=0,"",_xlpm.RESULT)) -> GWO | I25: =_xlfn.LET(_xlpm.RESULT,_xlfn.XLOOKUP(G25,BK_CDN!$N$10:$N$84,BK_CDN!$AL$10:$AL$84,0),IF(_xlpm.RESULT=0,"",_xlpm.RESULT)) -> 202 | J25: =_xlfn.LET(_xlpm.RESULT,(_xlfn.XLOOKUP(G25,BK_CDN!$N$10:$N$84,BK_CDN!$AM$10:$AM$84,0)),IF(_xlpm.RESULT=0,"",_xlpm.RESULT)) -> 10527.73 | K25: 69.03 | L25: =IFERROR(Table24[[#This Row],[MKT VALUE]]-Table24[[#This Row],[ACB]],"") -> 3416.33 | M25: =IFERROR(Table24[[#This Row],[MKT]]*Table24[[#This Row],[QTY]],"") -> 13944.06 | N25: {=IFERROR(_FV(#REF!,"Price"),"")} | P25: #VALUE! | Q25: {=_FV(P25,"Price")} -> 59.31
G26: =G25+1 -> 3 | H26: =_xlfn.LET(_xlpm.RESULT,_xlfn.XLOOKUP(G26,BK_CDN!$N$10:$N$84,BK_CDN!$M$10:$M$84,0),IF(_xlpm.RESULT=0,"",_xlpm.RESULT)) -> FCR.UN | I26: =_xlfn.LET(_xlpm.RESULT,_xlfn.XLOOKUP(G26,BK_CDN!$N$10:$N$84,BK_CDN!$AL$10:$AL$84,0),IF(_xlpm.RESULT=0,"",_xlpm.RESULT)) -> 402 | J26: =_xlfn.LET(_xlpm.RESULT,(_xlfn.XLOOKUP(G26,BK_CDN!$N$10:$N$84,BK_CDN!$AM$10:$AM$84,0)),IF(_xlpm.RESULT=0,"",_xlpm.RESULT)) -> 7054.18 | K26: 19.4 | L26: =IFERROR(Table24[[#This Row],[MKT VALUE]]-Table24[[#This Row],[ACB]],"") -> 744.62 | M26: =IFERROR(Table24[[#This Row],[MKT]]*Table24[[#This Row],[QTY]],"") -> 7798.8 | N26: {=IFERROR(_FV(#REF!,"Price"),"")} | P26: #VALUE! | Q26: {=_FV(P26,"Price")} -> 18.63
G27: =G26+1 -> 4 | H27: =_xlfn.LET(_xlpm.RESULT,_xlfn.XLOOKUP(G27,BK_CDN!$N$10:$N$84,BK_CDN!$M$10:$M$84,0),IF(_xlpm.RESULT=0,"",_xlpm.RESULT)) -> KMP.UN | I27: =_xlfn.LET(_xlpm.RESULT,_xlfn.XLOOKUP(G27,BK_CDN!$N$10:$N$84,BK_CDN!$AL$10:$AL$84,0),IF(_xlpm.RESULT=0,"",_xlpm.RESULT)) -> 170 | J27: =_xlfn.LET(_xlpm.RESULT,(_xlfn.XLOOKUP(G27,BK_CDN!$N$10:$N$84,BK_CDN!$AM$10:$AM$84,0)),IF(_xlpm.RESULT=0,"",_xlpm.RESULT)) -> 3270.59 | K27: 19.25 | L27: =IFERROR(Table24[[#This Row],[MKT VALUE]]-Table24[[#This Row],[ACB]],"") -> 1.91 | M27: =IFERROR(Table24[[#This Row],[MKT]]*Table24[[#This Row],[QTY]],"") -> 3272.5 | N27: {=IFERROR(_FV(#REF!,"Price"),"")} | P27: #VALUE! | Q27: {=_FV(P27,"Price")} -> 17.3
G28: =G27+1 -> 5 | H28: =_xlfn.LET(_xlpm.RESULT,_xlfn.XLOOKUP(G28,BK_CDN!$N$10:$N$84,BK_CDN!$M$10:$M$84,0),IF(_xlpm.RESULT=0,"",_xlpm.RESULT)) | I28: =_xlfn.LET(_xlpm.RESULT,_xlfn.XLOOKUP(G28,BK_CDN!$N$10:$N$84,BK_CDN!$AL$10:$AL$84,0),IF(_xlpm.RESULT=0,"",_xlpm.RESULT)) | J28: =_xlfn.LET(_xlpm.RESULT,(_xlfn.XLOOKUP(G28,BK_CDN!$N$10:$N$84,BK_CDN!$AM$10:$AM$84,0)),IF(_xlpm.RESULT=0,"",_xlpm.RESULT)) | K28: {=IFERROR(_FV(#REF!,"Price"),"")} | L28: =IFERROR(Table24[[#This Row],[MKT VALUE]]-Table24[[#This Row],[ACB]],"") | M28: =IFERROR(Table24[[#This Row],[MKT]]*Table24[[#This Row],[QTY]],"") | N28: {=IFERROR(_FV(#REF!,"Price"),"")} | P28: =Table24[[#This Row],[SYMBOL]]
G29: =G28+1 -> 6 | H29: =_xlfn.LET(_xlpm.RESULT,_xlfn.XLOOKUP(G29,BK_CDN!$N$10:$N$84,BK_CDN!$M$10:$M$84,0),IF(_xlpm.RESULT=0,"",_xlpm.RESULT)) | I29: =_xlfn.LET(_xlpm.RESULT,_xlfn.XLOOKUP(G29,BK_CDN!$N$10:$N$84,BK_CDN!$AL$10:$AL$84,0),IF(_xlpm.RESULT=0,"",_xlpm.RESULT)) | J29: =_xlfn.LET(_xlpm.RESULT,(_xlfn.XLOOKUP(G29,BK_CDN!$N$10:$N$84,BK_CDN!$AM$10:$AM$84,0)),IF(_xlpm.RESULT=0,"",_xlpm.RESULT)) | K29: {=IFERROR(_FV(#REF!,"Price"),"")} | L29: =IFERROR(Table24[[#This Row],[MKT VALUE]]-Table24[[#This Row],[ACB]],"") | M29: =IFERROR(Table24[[#This Row],[MKT]]*Table24[[#This Row],[QTY]],"") | N29: {=IFERROR(_FV(#REF!,"Price"),"")} | P29: =Table24[[#This Row],[SYMBOL]]
G30: =G29+1 -> 7 | H30: =_xlfn.LET(_xlpm.RESULT,_xlfn.XLOOKUP(G30,BK_CDN!$N$10:$N$84,BK_CDN!$M$10:$M$84,0),IF(_xlpm.RESULT=0,"",_xlpm.RESULT)) | I30: =_xlfn.LET(_xlpm.RESULT,_xlfn.XLOOKUP(G30,BK_CDN!$N$10:$N$84,BK_CDN!$AL$10:$AL$84,0),IF(_xlpm.RESULT=0,"",_xlpm.RESULT)) | J30: =_xlfn.LET(_xlpm.RESULT,(_xlfn.XLOOKUP(G30,BK_CDN!$N$10:$N$84,BK_CDN!$AM$10:$AM$84,0)),IF(_xlpm.RESULT=0,"",_xlpm.RESULT)) | K30: {=IFERROR(_FV(#REF!,"Price"),"")} | L30: =IFERROR(Table24[[#This Row],[MKT VALUE]]-Table24[[#This Row],[ACB]],"") | M30: =IFERROR(Table24[[#This Row],[MKT]]*Table24[[#This Row],[QTY]],"") | N30: {=IFERROR(_FV(#REF!,"Price"),"")} | P30: =Table24[[#This Row],[SYMBOL]]
G31: =G30+1 -> 8 | H31: =_xlfn.LET(_xlpm.RESULT,_xlfn.XLOOKUP(G31,BK_CDN!$N$10:$N$84,BK_CDN!$M$10:$M$84,0),IF(_xlpm.RESULT=0,"",_xlpm.RESULT)) | I31: =_xlfn.LET(_xlpm.RESULT,_xlfn.XLOOKUP(G31,BK_CDN!$N$10:$N$84,BK_CDN!$AL$10:$AL$84,0),IF(_xlpm.RESULT=0,"",_xlpm.RESULT)) | J31: =_xlfn.LET(_xlpm.RESULT,(_xlfn.XLOOKUP(G31,BK_CDN!$N$10:$N$84,BK_CDN!$AM$10:$AM$84,0)),IF(_xlpm.RESULT=0,"",_xlpm.RESULT)) | K31: {=IFERROR(_FV(#REF!,"Price"),"")} | L31: =IFERROR(Table24[[#This Row],[MKT VALUE]]-Table24[[#This Row],[ACB]],"") | M31: =IFERROR(Table24[[#This Row],[MKT]]*Table24[[#This Row],[QTY]],"") | N31: {=IFERROR(_FV(#REF!,"Price"),"")} | P31: =Table24[[#This Row],[SYMBOL]]
J32: =SUM(J24:J31) -> 25912.75 | L32: =SUM(L24:L27) -> 6753.61 | M32: =SUM(M24:M31) -> 32666.36
G35: US
G36: 1 | H36: =_xlfn.LET(_xlpm.RESULT,_xlfn.XLOOKUP(G36,BK_US!$N$10:$N$84,BK_US!$M$10:$M$84,0),IF(_xlpm.RESULT=0,"",_xlpm.RESULT)) -> GOOGL | I36: =_xlfn.LET(_xlpm.RESULT,_xlfn.XLOOKUP(G36,BK_US!$N$10:$N$84,BK_US!$AL$10:$AL$84,0),IF(_xlpm.RESULT=0,"",_xlpm.RESULT)) -> 60 | J36: =_xlfn.LET(_xlpm.RESULT,(_xlfn.XLOOKUP(G36,BK_US!$N$10:$N$84,BK_US!$AM$10:$AM$84,0)),IF(_xlpm.RESULT=0,"",_xlpm.RESULT)) -> 9839.27 | K36: 227.5274 | L36: =IFERROR(Table24[[#This Row],[MKT VALUE]]-Table24[[#This Row],[ACB]],"") -> 3812.374 | M36: =IFERROR(Table24[[#This Row],[MKT]]*Table24[[#This Row],[QTY]],"") -> 13651.644 | N36: {=IFERROR(_FV(#REF!,"Price"),"")} | P36: #VALUE! | Q36: {=_FV(P36,"Price")} -> 285.56
G37: =G36+1 -> 2 | H37: =_xlfn.LET(_xlpm.RESULT,_xlfn.XLOOKUP(G37,BK_US!$N$10:$N$84,BK_US!$M$10:$M$84,0),IF(_xlpm.RESULT=0,"",_xlpm.RESULT)) -> AMZN | I37: =_xlfn.LET(_xlpm.RESULT,_xlfn.XLOOKUP(G37,BK_US!$N$10:$N$84,BK_US!$AL$10:$AL$84,0),IF(_xlpm.RESULT=0,"",_xlpm.RESULT)) -> 50 | J37: =_xlfn.LET(_xlpm.RESULT,(_xlfn.XLOOKUP(G37,BK_US!$N$10:$N$84,BK_US!$AM$10:$AM$84,0)),IF(_xlpm.RESULT=0,"",_xlpm.RESULT)) -> 9922.06 | K37: 233.6829 | L37: =IFERROR(Table24[[#This Row],[MKT VALUE]]-Table24[[#This Row],[ACB]],"") -> 1762.085 | M37: =IFERROR(Table24[[#This Row],[MKT]]*Table24[[#This Row],[QTY]],"") -> 11684.145 | N37: {=IFERROR(_FV(#REF!,"Price"),"")} | P37: #VALUE! | Q37: {=_FV(P37,"Price")} -> 224.6858
G38: =G37+1 -> 3 | H38: =_xlfn.LET(_xlpm.RESULT,_xlfn.XLOOKUP(G38,BK_US!$N$10:$N$84,BK_US!$M$10:$M$84,0),IF(_xlpm.RESULT=0,"",_xlpm.RESULT)) -> AVGO | I38: =_xlfn.LET(_xlpm.RESULT,_xlfn.XLOOKUP(G38,BK_US!$N$10:$N$84,BK_US!$AL$10:$AL$84,0),IF(_xlpm.RESULT=0,"",_xlpm.RESULT)) -> 42 | J38: =_xlfn.LET(_xlpm.RESULT,(_xlfn.XLOOKUP(G38,BK_US!$N$10:$N$84,BK_US!$AM$10:$AM$84,0)),IF(_xlpm.RESULT=0,"",_xlpm.RESULT)) -> 9984.15 | K38: 303.99 | L38: =IFERROR(Table24[[#This Row],[MKT VALUE]]-Table24[[#This Row],[ACB]],"") -> 2783.43 | M38: =IFERROR(Table24[[#This Row],[MKT]]*Table24[[#This Row],[QTY]],"") -> 12767.58 | N38: {=IFERROR(_FV(#REF!,"Price"),"")} | P38: #VALUE! | Q38: {=_FV(P38,"Price")} -> 377
G39: =G38+1 -> 4 | H39: =_xlfn.LET(_xlpm.RESULT,_xlfn.XLOOKUP(G39,BK_US!$N$10:$N$84,BK_US!$M$10:$M$84,0),IF(_xlpm.RESULT=0,"",_xlpm.RESULT)) -> COST | I39: =_xlfn.LET(_xlpm.RESULT,_xlfn.XLOOKUP(G39,BK_US!$N$10:$N$84,BK_US!$AL$10:$AL$84,0),IF(_xlpm.RESULT=0,"",_xlpm.RESULT)) -> 10 | J39: =_xlfn.LET(_xlpm.RESULT,(_xlfn.XLOOKUP(G39,BK_US!$N$10:$N$84,BK_US!$AM$10:$AM$84,0)),IF(_xlpm.RESULT=0,"",_xlpm.RESULT)) -> 9751.39 | K39: 956.0301 | L39: =IFERROR(Table24[[#This Row],[MKT VALUE]]-Table24[[#This Row],[ACB]],"") -> -191.089 | M39: =IFERROR(Table24[[#This Row],[MKT]]*Table24[[#This Row],[QTY]],"") -> 9560.301 | N39: {=IFERROR(_FV(#REF!,"Price"),"")} | P39: #VALUE! | Q39: {=_FV(P39,"Price")} -> 919.0015
G40: =G39+1 -> 5 | H40: =_xlfn.LET(_xlpm.RESULT,_xlfn.XLOOKUP(G40,BK_US!$N$10:$N$84,BK_US!$M$10:$M$84,0),IF(_xlpm.RESULT=0,"",_xlpm.RESULT)) -> MSFT | I40: =_xlfn.LET(_xlpm.RESULT,_xlfn.XLOOKUP(G40,BK_US!$N$10:$N$84,BK_US!$AL$10:$AL$84,0),IF(_xlpm.RESULT=0,"",_xlpm.RESULT)) -> 75 | J40: =_xlfn.LET(_xlpm.RESULT,(_xlfn.XLOOKUP(G40,BK_US!$N$10:$N$84,BK_US!$AM$10:$AM$84,0)),IF(_xlpm.RESULT=0,"",_xlpm.RESULT)) -> 33326.13 | K40: =34824/75 -> 464.32 | L40: =IFERROR(Table24[[#This Row],[MKT VALUE]]-Table24[[#This Row],[ACB]],"") -> 1497.87 | M40: =IFERROR(Table24[[#This Row],[MKT]]*Table24[[#This Row],[QTY]],"") -> 34824 | N40: {=IFERROR(_FV(#REF!,"Price"),"")} | P40: #VALUE! | Q40: {=_FV(P40,"Price")} -> 526.75
G41: =G40+1 -> 6 | H41: =_xlfn.LET(_xlpm.RESULT,_xlfn.XLOOKUP(G41,BK_US!$N$10:$N$84,BK_US!$M$10:$M$84,0),IF(_xlpm.RESULT=0,"",_xlpm.RESULT)) -> COP | I41: =_xlfn.LET(_xlpm.RESULT,_xlfn.XLOOKUP(G41,BK_US!$N$10:$N$84,BK_US!$AL$10:$AL$84,0),IF(_xlpm.RESULT=0,"",_xlpm.RESULT)) -> 300 | J41: =_xlfn.LET(_xlpm.RESULT,(_xlfn.XLOOKUP(G41,BK_US!$N$10:$N$84,BK_US!$AM$10:$AM$84,0)),IF(_xlpm.RESULT=0,"",_xlpm.RESULT)) -> 31196.94 | K41: 91.64 | L41: =IFERROR(Table24[[#This Row],[MKT VALUE]]-Table24[[#This Row],[ACB]],"") -> -3704.94 | M41: =IFERROR(Table24[[#This Row],[MKT]]*Table24[[#This Row],[QTY]],"") -> 27492 | N41: {=IFERROR(_FV(#REF!,"Price"),"")} | P41: #VALUE! | Q41: {=_FV(P41,"Price")} -> 89.035
G42: =G41+1 -> 7 | H42: =_xlfn.LET(_xlpm.RESULT,_xlfn.XLOOKUP(G42,BK_US!$N$10:$N$84,BK_US!$M$10:$M$84,0),IF(_xlpm.RESULT=0,"",_xlpm.RESULT)) -> OXY | I42: =_xlfn.LET(_xlpm.RESULT,_xlfn.XLOOKUP(G42,BK_US!$N$10:$N$84,BK_US!$AL$10:$AL$84,0),IF(_xlpm.RESULT=0,"",_xlpm.RESULT)) -> 200 | J42: =_xlfn.LET(_xlpm.RESULT,(_xlfn.XLOOKUP(G42,BK_US!$N$10:$N$84,BK_US!$AM$10:$AM$84,0)),IF(_xlpm.RESULT=0,"",_xlpm.RESULT)) -> 10416.99 | K42: =16119/200 -> 80.595 | L42: =IFERROR(Table24[[#This Row],[MKT VALUE]]-Table24[[#This Row],[ACB]],"") -> 5702.01 | M42: =IFERROR(Table24[[#This Row],[MKT]]*Table24[[#This Row],[QTY]],"") -> 16119 | N42: {=IFERROR(_FV(#REF!,"Price"),"")} | P42: #VALUE! | Q42: {=_FV(P42,"Price")} -> 41.125
G43: =G42+1 -> 8 | H43: =_xlfn.LET(_xlpm.RESULT,_xlfn.XLOOKUP(G43,BK_US!$N$10:$N$84,BK_US!$M$10:$M$84,0),IF(_xlpm.RESULT=0,"",_xlpm.RESULT)) | I43: =_xlfn.LET(_xlpm.RESULT,_xlfn.XLOOKUP(G43,BK_US!$N$10:$N$84,BK_US!$AL$10:$AL$84,0),IF(_xlpm.RESULT=0,"",_xlpm.RESULT)) | J43: =_xlfn.LET(_xlpm.RESULT,(_xlfn.XLOOKUP(G43,BK_US!$N$10:$N$84,BK_US!$AM$10:$AM$84,0)),IF(_xlpm.RESULT=0,"",_xlpm.RESULT)) | K43: {=IFERROR(_FV(#REF!,"Price"),"")} | L43: =IFERROR(Table24[[#This Row],[MKT VALUE]]-Table24[[#This Row],[ACB]],"") | M43: =IFERROR(Table24[[#This Row],[MKT]]*Table24[[#This Row],[QTY]],"") | N43: {=IFERROR(_FV(#REF!,"Price"),"")} | P43: =Table24[[#This Row],[SYMBOL]]
J44: =SUM(J36:J43) -> 114436.93 | L44: =SUM(L36:L42) -> 11661.74 | M44: =Table24[[#This Row],[HOLDING GAIN (LOSS)]]+Table24[[#This Row],[ACB]] -> 126098.67
H46: CASH | P46: =Table24[[#This Row],[SYMBOL]] -> CASH
H47: CDN | J47: =M11 -> 155.05 | M47: =M11 -> 155.05 | P47: =Table24[[#This Row],[SYMBOL]] -> CDN
H48: US | J48: =M12 -> -22252.45 | M48: =M12 -> -22252.45 | P48: =Table24[[#This Row],[SYMBOL]] -> US
M49: =M48+M47 -> -22097.4
J51: =J32+J44+J48 -> 118097.23 | L51: 18415 | M51: =M49+M44+M32 -> 136667.63

Sheet B.1
A1: TABLE OF CONTENTS | C1: MARKETABLE SECURITIES TRADES
A2: B1 | I2: 25
F4: =UPPER(COA!B2) -> ANONYMOUS COMPANY
F5: =UPPER(_xlfn.XLOOKUP(A2,COA!G1:G174,COA!I1:I174)) -> MARKETABLE SECURITIES
F6: ="FOR THE YEAR ENDED "&UPPER(TEXT(COA!$B$4,"MMMM DD, YYYY")) -> FOR THE YEAR ENDED DECEMBER 31, 2025
B9: Helper columns | F9: Account | P9: =YEAR(COA!B4) -> 2025 | Q9: =P9-1 -> 2024
B10: Match | C10: Count | D10: Concat
B11: =IFERROR(MATCH(D11,M_COA[LSheetID],0),"") -> 80 | C11: 7 | D11: =_xlfn.CONCAT($I$2,C11) -> 257 | F11: {=IFERROR(INDEX(M_COA[ACCOUNT],B11),0)} -> 4023 Sale of CDN Securities | P11: {=IFERROR(INDEX(M_COA[CY],B11),0)} -> -109486.56 | Q11: {=IFERROR(INDEX(M_COA[PY1],B11),0)} -> 0
B12: =IFERROR(MATCH(D12,M_COA[LSheetID],0),"") -> 81 | C12: =C11+1 -> 8 | D12: =_xlfn.CONCAT($I$2,C12) -> 258 | F12: {=IFERROR(INDEX(M_COA[ACCOUNT],B12),0)} -> 4156 Cost of CDN Securities Sold | P12: {=IFERROR(INDEX(M_COA[CY],B12),0)} -> 109667.01 | Q12: {=IFERROR(INDEX(M_COA[PY1],B12),0)} -> 0
B13: =IFERROR(MATCH(D13,M_COA[LSheetID],0),"") -> 82 | C13: =C12+1 -> 9 | D13: =_xlfn.CONCAT($I$2,C13) -> 259 | F13: {=IFERROR(INDEX(M_COA[ACCOUNT],B13),0)} -> 4170 US Sale of Securities | P13: {=IFERROR(INDEX(M_COA[CY],B13),0)} -> -52510.86 | Q13: {=IFERROR(INDEX(M_COA[PY1],B13),0)} -> 0
B14: =IFERROR(MATCH(D14,M_COA[LSheetID],0),"") -> 83 | C14: =C13+1 -> 10 | D14: =_xlfn.CONCAT($I$2,C14) -> 2510 | F14: {=IFERROR(INDEX(M_COA[ACCOUNT],B14),0)} -> 4171 Cost of US Securities Sold | P14: {=IFERROR(INDEX(M_COA[CY],B14),0)} -> 54736.17 | Q14: {=IFERROR(INDEX(M_COA[PY1],B14),0)} -> 0
B15: =IFERROR(MATCH(D15,M_COA[LSheetID],0),"") -> 84 | C15: =C14+1 -> 11 | D15: =_xlfn.CONCAT($I$2,C15) -> 2511 | F15: {=IFERROR(INDEX(M_COA[ACCOUNT],B15),0)} -> 4190 Unrealized gain/loss on Canadian securities | P15: {=IFERROR(INDEX(M_COA[CY],B15),0)} -> -12350 | Q15: {=IFERROR(INDEX(M_COA[PY1],B15),0)} -> 0
B16: =IFERROR(MATCH(D16,M_COA[LSheetID],0),"") -> 85 | C16: =C15+1 -> 12 | D16: =_xlfn.CONCAT($I$2,C16) -> 2512 | F16: {=IFERROR(INDEX(M_COA[ACCOUNT],B16),0)} -> 4191 Unrealized gain/loss on foreign securities | P16: {=IFERROR(INDEX(M_COA[CY],B16),0)} -> -6265 | Q16: {=IFERROR(INDEX(M_COA[PY1],B16),0)} -> 0
B17: =IFERROR(MATCH(D17,M_COA[LSheetID],0),"") -> 86 | C17: =C16+1 -> 13 | D17: =_xlfn.CONCAT($I$2,C17) -> 2513 | F17: {=IFERROR(INDEX(M_COA[ACCOUNT],B17),0)} -> 4299 Investment management fees | P17: {=IFERROR(INDEX(M_COA[CY],B17),0)} -> 0 | Q17: {=IFERROR(INDEX(M_COA[PY1],B17),0)} -> 0
B18: =IFERROR(MATCH(D18,M_COA[LSheetID],0),"") | C18: =C17+1 -> 14 | D18: =_xlfn.CONCAT($I$2,C18) -> 2514 | F18: {=IFERROR(INDEX(M_COA[ACCOUNT],B18),0)} -> 0 | P18: {=IFERROR(INDEX(M_COA[CY],B18),0)} -> 0 | Q18: {=IFERROR(INDEX(M_COA[PY1],B18),0)} -> 0
B19: =IFERROR(MATCH(D19,M_COA[LSheetID],0),"")
P20: =SUM(P11:P18) -> -16209.24 | Q20: =SUM(Q11:Q18) -> 0
G22: STATISTICS | L22: INCOME (LOSS) FROM TRADING
G23: TRANSACTION COUNT
G24: SALE REF | H24: SYMBOL | I24: GAIN | J24: LOSS | K24: DAYS HELD | L24: YIELD | M24: QTY | N24: PROCEEDES | O24: ACB | P24: GAIN (LOSS)
G26: CANADIAN
G27: 1 | H27: =_xlfn.LET(_xlpm.RESULT,_xlfn.XLOOKUP(G27,BK_CDN!$R$10:$R$84,BK_CDN!$M$10:$M$84,0),IF(_xlpm.RESULT=0,"",_xlpm.RESULT)) -> JCI | I27: =IF(H27="","",IF(P27>0.01,1,IF(P27<0.01," "))) | J27: =IF(H27="","",IF(P27>0.01," ",IF(P27<0.01,1))) -> 1 | K27: =_xlfn.LET(_xlpm.RESULT,_xlfn.XLOOKUP(G27,BK_CDN!$R$10:$R$84,BK_CDN!$AJ$10:$AJ$84,0),IF(_xlpm.RESULT=0,"",_xlpm.RESULT)) -> 40 | L27: =IF(H27="","",(IF(M27>0.01,(P27/O27),0))) -> -0.057586685 | M27: =_xlfn.LET(_xlpm.RESULT,_xlfn.XLOOKUP(G27,BK_CDN!$R$10:$R$84,BK_CDN!$AA$10:$AA$84,0),IF(_xlpm.RESULT=0,"",_xlpm.RESULT))*-1 -> 100 | N27: =_xlfn.LET(_xlpm.RESULT,_xlfn.XLOOKUP(G27,BK_CDN!$R$10:$R$84,BK_CDN!$AG$10:$AG$84,0),IF(_xlpm.RESULT=0,"",_xlpm.RESULT))*-1 -> 11122.23 | O27: =_xlfn.LET(_xlpm.RESULT,_xlfn.XLOOKUP(G27,BK_CDN!$R$10:$R$84,BK_CDN!$AE$10:$AE$84,0),IF(_xlpm.RESULT=0,"",_xlpm.RESULT))*-1 -> 11801.86 | P27: =IF(H27="","",(-N27+O27))*-1 -> -679.63
G28: =G27+1 -> 2 | H28: =_xlfn.LET(_xlpm.RESULT,_xlfn.XLOOKUP(G28,BK_CDN!$R$10:$R$84,BK_CDN!$M$10:$M$84,0),IF(_xlpm.RESULT=0,"",_xlpm.RESULT)) -> MS | I28: =IF(H28="","",IF(P28>0.01,1,IF(P28<0.01," "))) -> 1 | J28: =IF(H28="","",IF(P28>0.01," ",IF(P28<0.01,1))) | K28: =_xlfn.LET(_xlpm.RESULT,_xlfn.XLOOKUP(G28,BK_CDN!$R$10:$R$84,BK_CDN!$AJ$10:$AJ$84,0),IF(_xlpm.RESULT=0,"",_xlpm.RESULT)) -> 7 | L28: =IF(H28="","",(IF(M28>0.01,(P28/O28),0))) -> 0.091463987 | M28: =_xlfn.LET(_xlpm.RESULT,_xlfn.XLOOKUP(G28,BK_CDN!$R$10:$R$84,BK_CDN!$AA$10:$AA$84,0),IF(_xlpm.RESULT=0,"",_xlpm.RESULT))*-1 -> 75 | N28: =_xlfn.LET(_xlpm.RESULT,_xlfn.XLOOKUP(G28,BK_CDN!$R$10:$R$84,BK_CDN!$AG$10:$AG$84,0),IF(_xlpm.RESULT=0,"",_xlpm.RESULT))*-1 -> 14872.07 | O28: =_xlfn.LET(_xlpm.RESULT,_xlfn.XLOOKUP(G28,BK_CDN!$R$10:$R$84,BK_CDN!$AE$10:$AE$84,0),IF(_xlpm.RESULT=0,"",_xlpm.RESULT))*-1 -> 13625.8 | P28: =IF(H28="","",(-N28+O28))*-1 -> 1246.27
G29: =G28+1 -> 3 | H29: =_xlfn.LET(_xlpm.RESULT,_xlfn.XLOOKUP(G29,BK_CDN!$R$10:$R$84,BK_CDN!$M$10:$M$84,0),IF(_xlpm.RESULT=0,"",_xlpm.RESULT)) -> MFC | I29: =IF(H29="","",IF(P29>0.01,1,IF(P29<0.01," "))) -> 1 | J29: =IF(H29="","",IF(P29>0.01," ",IF(P29<0.01,1))) | K29: =_xlfn.LET(_xlpm.RESULT,_xlfn.XLOOKUP(G29,BK_CDN!$R$10:$R$84,BK_CDN!$AJ$10:$AJ$84,0),IF(_xlpm.RESULT=0,"",_xlpm.RESULT)) -> 37 | L29: =IF(H29="","",(IF(M29>0.01,(P29/O29),0))) -> 0.73604969 | M29: =_xlfn.LET(_xlpm.RESULT,_xlfn.XLOOKUP(G29,BK_CDN!$R$10:$R$84,BK_CDN!$AA$10:$AA$84,0),IF(_xlpm.RESULT=0,"",_xlpm.RESULT))*-1 -> 4 | N29: =_xlfn.LET(_xlpm.RESULT,_xlfn.XLOOKUP(G29,BK_CDN!$R$10:$R$84,BK_CDN!$AG$10:$AG$84,0),IF(_xlpm.RESULT=0,"",_xlpm.RESULT))*-1 -> 164.89 | O29: =_xlfn.LET(_xlpm.RESULT,_xlfn.XLOOKUP(G29,BK_CDN!$R$10:$R$84,BK_CDN!$AE$10:$AE$84,0),IF(_xlpm.RESULT=0,"",_xlpm.RESULT))*-1 -> 94.98 | P29: =IF(H29="","",(-N29+O29))*-1 -> 69.91
G30: =G29+1 -> 4 | H30: =_xlfn.LET(_xlpm.RESULT,_xlfn.XLOOKUP(G30,BK_CDN!$R$10:$R$84,BK_CDN!$M$10:$M$84,0),IF(_xlpm.RESULT=0,"",_xlpm.RESULT)) -> AMZN | I30: =IF(H30="","",IF(P30>0.01,1,IF(P30<0.01," "))) -> 1 | J30: =IF(H30="","",IF(P30>0.01," ",IF(P30<0.01,1))) | K30: =_xlfn.LET(_xlpm.RESULT,_xlfn.XLOOKUP(G30,BK_CDN!$R$10:$R$84,BK_CDN!$AJ$10:$AJ$84,0),IF(_xlpm.RESULT=0,"",_xlpm.RESULT)) -> 7 | L30: =IF(H30="","",(IF(M30>0.01,(P30/O30),0))) -> 0.041703833 | M30: =_xlfn.LET(_xlpm.RESULT,_xlfn.XLOOKUP(G30,BK_CDN!$R$10:$R$84,BK_CDN!$AA$10:$AA$84,0),IF(_xlpm.RESULT=0,"",_xlpm.RESULT))*-1 -> 45 | N30: =_xlfn.LET(_xlpm.RESULT,_xlfn.XLOOKUP(G30,BK_CDN!$R$10:$R$84,BK_CDN!$AG$10:$AG$84,0),IF(_xlpm.RESULT=0,"",_xlpm.RESULT))*-1 -> 15637.36 | O30: =_xlfn.LET(_xlpm.RESULT,_xlfn.XLOOKUP(G30,BK_CDN!$R$10:$R$84,BK_CDN!$AE$10:$AE$84,0),IF(_xlpm.RESULT=0,"",_xlpm.RESULT))*-1 -> 15011.33 | P30: =IF(H30="","",(-N30+O30))*-1 -> 626.03
G31: =G30+1 -> 5 | H31: =_xlfn.LET(_xlpm.RESULT,_xlfn.XLOOKUP(G31,BK_CDN!$R$10:$R$84,BK_CDN!$M$10:$M$84,0),IF(_xlpm.RESULT=0,"",_xlpm.RESULT)) -> AMT | I31: =IF(H31="","",IF(P31>0.01,1,IF(P31<0.01," "))) | J31: =IF(H31="","",IF(P31>0.01," ",IF(P31<0.01,1))) -> 1 | K31: =_xlfn.LET(_xlpm.RESULT,_xlfn.XLOOKUP(G31,BK_CDN!$R$10:$R$84,BK_CDN!$AJ$10:$AJ$84,0),IF(_xlpm.RESULT=0,"",_xlpm.RESULT)) -> 1 | L31: =IF(H31="","",(IF(M31>0.01,(P31/O31),0))) -> -0.015921611 | M31: =_xlfn.LET(_xlpm.RESULT,_xlfn.XLOOKUP(G31,BK_CDN!$R$10:$R$84,BK_CDN!$AA$10:$AA$84,0),IF(_xlpm.RESULT=0,"",_xlpm.RESULT))*-1 -> 44 | N31: =_xlfn.LET(_xlpm.RESULT,_xlfn.XLOOKUP(G31,BK_CDN!$R$10:$R$84,BK_CDN!$AG$10:$AG$84,0),IF(_xlpm.RESULT=0,"",_xlpm.RESULT))*-1 -> 11886.86 | O31: =_xlfn.LET(_xlpm.RESULT,_xlfn.XLOOKUP(G31,BK_CDN!$R$10:$R$84,BK_CDN!$AE$10:$AE$84,0),IF(_xlpm.RESULT=0,"",_xlpm.RESULT))*-1 -> 12079.18 | P31: =IF(H31="","",(-N31+O31))*-1 -> -192.32
G32: =G31+1 -> 6 | H32: =_xlfn.LET(_xlpm.RESULT,_xlfn.XLOOKUP(G32,BK_CDN!$R$10:$R$84,BK_CDN!$M$10:$M$84,0),IF(_xlpm.RESULT=0,"",_xlpm.RESULT)) -> PEP | I32: =IF(H32="","",IF(P32>0.01,1,IF(P32<0.01," "))) | J32: =IF(H32="","",IF(P32>0.01," ",IF(P32<0.01,1))) -> 1 | K32: =_xlfn.LET(_xlpm.RESULT,_xlfn.XLOOKUP(G32,BK_CDN!$R$10:$R$84,BK_CDN!$AJ$10:$AJ$84,0),IF(_xlpm.RESULT=0,"",_xlpm.RESULT)) -> 7 | L32: =IF(H32="","",(IF(M32>0.01,(P32/O32),0))) -> -0.067351998 | M32: =_xlfn.LET(_xlpm.RESULT,_xlfn.XLOOKUP(G32,BK_CDN!$R$10:$R$84,BK_CDN!$AA$10:$AA$84,0),IF(_xlpm.RESULT=0,"",_xlpm.RESULT))*-1 -> 16 | N32: =_xlfn.LET(_xlpm.RESULT,_xlfn.XLOOKUP(G32,BK_CDN!$R$10:$R$84,BK_CDN!$AG$10:$AG$84,0),IF(_xlpm.RESULT=0,"",_xlpm.RESULT))*-1 -> 3303.29 | O32: =_xlfn.LET(_xlpm.RESULT,_xlfn.XLOOKUP(G32,BK_CDN!$R$10:$R$84,BK_CDN!$AE$10:$AE$84,0),IF(_xlpm.RESULT=0,"",_xlpm.RESULT))*-1 -> 3541.84 | P32: =IF(H32="","",(-N32+O32))*-1 -> -238.55
G33: =G32+1 -> 7 | H33: =_xlfn.LET(_xlpm.RESULT,_xlfn.XLOOKUP(G33,BK_CDN!$R$10:$R$84,BK_CDN!$M$10:$M$84,0),IF(_xlpm.RESULT=0,"",_xlpm.RESULT)) -> CROX | I33: =IF(H33="","",IF(P33>0.01,1,IF(P33<0.01," "))) | J33: =IF(H33="","",IF(P33>0.01," ",IF(P33<0.01,1))) -> 1 | K33: =_xlfn.LET(_xlpm.RESULT,_xlfn.XLOOKUP(G33,BK_CDN!$R$10:$R$84,BK_CDN!$AJ$10:$AJ$84,0),IF(_xlpm.RESULT=0,"",_xlpm.RESULT)) -> 6 | L33: =IF(H33="","",(IF(M33>0.01,(P33/O33),0))) -> -0.08549315 | M33: =_xlfn.LET(_xlpm.RESULT,_xlfn.XLOOKUP(G33,BK_CDN!$R$10:$R$84,BK_CDN!$AA$10:$AA$84,0),IF(_xlpm.RESULT=0,"",_xlpm.RESULT))*-1 -> 40 | N33: =_xlfn.LET(_xlpm.RESULT,_xlfn.XLOOKUP(G33,BK_CDN!$R$10:$R$84,BK_CDN!$AG$10:$AG$84,0),IF(_xlpm.RESULT=0,"",_xlpm.RESULT))*-1 -> 5625.47 | O33: =_xlfn.LET(_xlpm.RESULT,_xlfn.XLOOKUP(G33,BK_CDN!$R$10:$R$84,BK_CDN!$AE$10:$AE$84,0),IF(_xlpm.RESULT=0,"",_xlpm.RESULT))*-1 -> 6151.37 | P33: =IF(H33="","",(-N33+O33))*-1 -> -525.9
G34: =G33+1 -> 8 | H34: =_xlfn.LET(_xlpm.RESULT,_xlfn.XLOOKUP(G34,BK_CDN!$R$10:$R$84,BK_CDN!$M$10:$M$84,0),IF(_xlpm.RESULT=0,"",_xlpm.RESULT)) -> GLW | I34: =IF(H34="","",IF(P34>0.01,1,IF(P34<0.01," "))) -> 1 | J34: =IF(H34="","",IF(P34>0.01," ",IF(P34<0.01,1))) | K34: =_xlfn.LET(_xlpm.RESULT,_xlfn.XLOOKUP(G34,BK_CDN!$R$10:$R$84,BK_CDN!$AJ$10:$AJ$84,0),IF(_xlpm.RESULT=0,"",_xlpm.RESULT)) -> 11 | L34: =IF(H34="","",(IF(M34>0.01,(P34/O34),0))) -> 0.05904686 | M34: =_xlfn.LET(_xlpm.RESULT,_xlfn.XLOOKUP(G34,BK_CDN!$R$10:$R$84,BK_CDN!$AA$10:$AA$84,0),IF(_xlpm.RESULT=0,"",_xlpm.RESULT))*-1 -> 79 | N34: =_xlfn.LET(_xlpm.RESULT,_xlfn.XLOOKUP(G34,BK_CDN!$R$10:$R$84,BK_CDN!$AG$10:$AG$84,0),IF(_xlpm.RESULT=0,"",_xlpm.RESULT))*-1 -> 6089.35 | O34: =_xlfn.LET(_xlpm.RESULT,_xlfn.XLOOKUP(G34,BK_CDN!$R$10:$R$84,BK_CDN!$AE$10:$AE$84,0),IF(_xlpm.RESULT=0,"",_xlpm.RESULT))*-1 -> 5749.84 | P34: =IF(H34="","",(-N34+O34))*-1 -> 339.51
G35: =G34+1 -> 9 | H35: =_xlfn.LET(_xlpm.RESULT,_xlfn.XLOOKUP(G35,BK_CDN!$R$10:$R$84,BK_CDN!$M$10:$M$84,0),IF(_xlpm.RESULT=0,"",_xlpm.RESULT)) -> VRN | I35: =IF(H35="","",IF(P35>0.01,1,IF(P35<0.01," "))) | J35: =IF(H35="","",IF(P35>0.01," ",IF(P35<0.01,1))) -> 1 | K35: =_xlfn.LET(_xlpm.RESULT,_xlfn.XLOOKUP(G35,BK_CDN!$R$10:$R$84,BK_CDN!$AJ$10:$AJ$84,0),IF(_xlpm.RESULT=0,"",_xlpm.RESULT)) -> 43 | L35: =IF(H35="","",(IF(M35>0.01,(P35/O35),0))) -> -0.084430299 | M35: =_xlfn.LET(_xlpm.RESULT,_xlfn.XLOOKUP(G35,BK_CDN!$R$10:$R$84,BK_CDN!$AA$10:$AA$84,0),IF(_xlpm.RESULT=0,"",_xlpm.RESULT))*-1 -> 99 | N35: =_xlfn.LET(_xlpm.RESULT,_xlfn.XLOOKUP(G35,BK_CDN!$R$10:$R$84,BK_CDN!$AG$10:$AG$84,0),IF(_xlpm.RESULT=0,"",_xlpm.RESULT))*-1 -> 719.18 | O35: =_xlfn.LET(_xlpm.RESULT,_xlfn.XLOOKUP(G35,BK_CDN!$R$10:$R$84,BK_CDN!$AE$10:$AE$84,0),IF(_xlpm.RESULT=0,"",_xlpm.RESULT))*-1 -> 785.5 | P35: =IF(H35="","",(-N35+O35))*-1 -> -66.32
G36: =G35+1 -> 10 | H36: =_xlfn.LET(_xlpm.RESULT,_xlfn.XLOOKUP(G36,BK_CDN!$R$10:$R$84,BK_CDN!$M$10:$M$84,0),IF(_xlpm.RESULT=0,"",_xlpm.RESULT)) -> GIL | I36: =IF(H36="","",IF(P36>0.01,1,IF(P36<0.01," "))) -> 1 | J36: =IF(H36="","",IF(P36>0.01," ",IF(P36<0.01,1))) | K36: =_xlfn.LET(_xlpm.RESULT,_xlfn.XLOOKUP(G36,BK_CDN!$R$10:$R$84,BK_CDN!$AJ$10:$AJ$84,0),IF(_xlpm.RESULT=0,"",_xlpm.RESULT)) -> 15 | L36: =IF(H36="","",(IF(M36>0.01,(P36/O36),0))) -> 0.020493693 | M36: =_xlfn.LET(_xlpm.RESULT,_xlfn.XLOOKUP(G36,BK_CDN!$R$10:$R$84,BK_CDN!$AA$10:$AA$84,0),IF(_xlpm.RESULT=0,"",_xlpm.RESULT))*-1 -> 118 | N36: =_xlfn.LET(_xlpm.RESULT,_xlfn.XLOOKUP(G36,BK_CDN!$R$10:$R$84,BK_CDN!$AG$10:$AG$84,0),IF(_xlpm.RESULT=0,"",_xlpm.RESULT))*-1 -> 9072.74 | O36: =_xlfn.LET(_xlpm.RESULT,_xlfn.XLOOKUP(G36,BK_CDN!$R$10:$R$84,BK_CDN!$AE$10:$AE$84,0),IF(_xlpm.RESULT=0,"",_xlpm.RESULT))*-1 -> 8890.54 | P36: =IF(H36="","",(-N36+O36))*-1 -> 182.2
G37: =G36+1 -> 11 | H37: =_xlfn.LET(_xlpm.RESULT,_xlfn.XLOOKUP(G37,BK_CDN!$R$10:$R$84,BK_CDN!$M$10:$M$84,0),IF(_xlpm.RESULT=0,"",_xlpm.RESULT)) -> IREN | I37: =IF(H37="","",IF(P37>0.01,1,IF(P37<0.01," "))) | J37: =IF(H37="","",IF(P37>0.01," ",IF(P37<0.01,1))) -> 1 | K37: =_xlfn.LET(_xlpm.RESULT,_xlfn.XLOOKUP(G37,BK_CDN!$R$10:$R$84,BK_CDN!$AJ$10:$AJ$84,0),IF(_xlpm.RESULT=0,"",_xlpm.RESULT)) -> 10 | L37: =IF(H37="","",(IF(M37>0.01,(P37/O37),0))) -> -0.086391383 | M37: =_xlfn.LET(_xlpm.RESULT,_xlfn.XLOOKUP(G37,BK_CDN!$R$10:$R$84,BK_CDN!$AA$10:$AA$84,0),IF(_xlpm.RESULT=0,"",_xlpm.RESULT))*-1 -> 322 | N37: =_xlfn.LET(_xlpm.RESULT,_xlfn.XLOOKUP(G37,BK_CDN!$R$10:$R$84,BK_CDN!$AG$10:$AG$84,0),IF(_xlpm.RESULT=0,"",_xlpm.RESULT))*-1 -> 5554.11 | O37: =_xlfn.LET(_xlpm.RESULT,_xlfn.XLOOKUP(G37,BK_CDN!$R$10:$R$84,BK_CDN!$AE$10:$AE$84,0),IF(_xlpm.RESULT=0,"",_xlpm.RESULT))*-1 -> 6079.31 | P37: =IF(H37="","",(-N37+O37))*-1 -> -525.2
G38: =G37+1 -> 12 | H38: =_xlfn.LET(_xlpm.RESULT,_xlfn.XLOOKUP(G38,BK_CDN!$R$10:$R$84,BK_CDN!$M$10:$M$84,0),IF(_xlpm.RESULT=0,"",_xlpm.RESULT)) -> GRT.UN | I38: =IF(H38="","",IF(P38>0.01,1,IF(P38<0.01," "))) | J38: =IF(H38="","",IF(P38>0.01," ",IF(P38<0.01,1))) -> 1 | K38: =_xlfn.LET(_xlpm.RESULT,_xlfn.XLOOKUP(G38,BK_CDN!$R$10:$R$84,BK_CDN!$AJ$10:$AJ$84,0),IF(_xlpm.RESULT=0,"",_xlpm.RESULT)) -> 318 | L38: =IF(H38="","",(IF(M38>0.01,(P38/O38),0))) -> -0.040395121 | M38: =_xlfn.LET(_xlpm.RESULT,_xlfn.XLOOKUP(G38,BK_CDN!$R$10:$R$84,BK_CDN!$AA$10:$AA$84,0),IF(_xlpm.RESULT=0,"",_xlpm.RESULT))*-1 -> 70 | N38: =_xlfn.LET(_xlpm.RESULT,_xlfn.XLOOKUP(G38,BK_CDN!$R$10:$R$84,BK_CDN!$AG$10:$AG$84,0),IF(_xlpm.RESULT=0,"",_xlpm.RESULT))*-1 -> 4727.1 | O38: =_xlfn.LET(_xlpm.RESULT,_xlfn.XLOOKUP(G38,BK_CDN!$R$10:$R$84,BK_CDN!$AE$10:$AE$84,0),IF(_xlpm.RESULT=0,"",_xlpm.RESULT))*-1 -> 4926.09 | P38: =IF(H38="","",(-N38+O38))*-1 -> -198.99
G39: =G38+1 -> 13 | H39: =_xlfn.LET(_xlpm.RESULT,_xlfn.XLOOKUP(G39,BK_CDN!$R$10:$R$84,BK_CDN!$M$10:$M$84,0),IF(_xlpm.RESULT=0,"",_xlpm.RESULT)) -> CNR | I39: =IF(H39="","",IF(P39>0.01,1,IF(P39<0.01," "))) | J39: =IF(H39="","",IF(P39>0.01," ",IF(P39<0.01,1))) -> 1 | K39: =_xlfn.LET(_xlpm.RESULT,_xlfn.XLOOKUP(G39,BK_CDN!$R$10:$R$84,BK_CDN!$AJ$10:$AJ$84,0),IF(_xlpm.RESULT=0,"",_xlpm.RESULT)) -> 11 | L39: =IF(H39="","",(IF(M39>0.01,(P39/O39),0))) -> -0.052479545 | M39: =_xlfn.LET(_xlpm.RESULT,_xlfn.XLOOKUP(G39,BK_CDN!$R$10:$R$84,BK_CDN!$AA$10:$AA$84,0),IF(_xlpm.RESULT=0,"",_xlpm.RESULT))*-1 -> 106 | N39: =_xlfn.LET(_xlpm.RESULT,_xlfn.XLOOKUP(G39,BK_CDN!$R$10:$R$84,BK_CDN!$AG$10:$AG$84,0),IF(_xlpm.RESULT=0,"",_xlpm.RESULT))*-1 -> 14800.08 | O39: =_xlfn.LET(_xlpm.RESULT,_xlfn.XLOOKUP(G39,BK_CDN!$R$10:$R$84,BK_CDN!$AE$10:$AE$84,0),IF(_xlpm.RESULT=0,"",_xlpm.RESULT))*-1 -> 15619.8 | P39: =IF(H39="","",(-N39+O39))*-1 -> -819.72
... G41: =G40+1 -> 15 | H41: =_xlfn.LET(_xlpm.RESULT,_xlfn.XLOOKUP(G41,BK_CDN!$R$10:$R$84,BK_CDN!$M$10:$M$84,0),IF(_xlpm.RESULT=0,"",_xlpm.RESULT)) -> BLN | I41: =IF(H41="","",IF(P41>0.01,1,IF(P41<0.01," "))) -> 1 | J41: =IF(H41="","",IF(P41>0.01," ",IF(P41<0.01,1))) | K41: =_xlfn.LET(_xlpm.RESULT,_xlfn.XLOOKUP(G41,BK_CDN!$R$10:$R$84,BK_CDN!$AJ$10:$AJ$84,0),IF(_xlpm.RESULT=0,"",_xlpm.RESULT)) -> 79 | L41: =IF(H41="","",(IF(M41>0.01,(P41/O41),0))) -> 0.13248839 | M41: =_xlfn.LET(_xlpm.RESULT,_xlfn.XLOOKUP(G41,BK_CDN!$R$10:$R$84,BK_CDN!$AA$10:$AA$84,0),IF(_xlpm.RESULT=0,"",_xlpm.RESULT))*-1 -> 699 | N41: =_xlfn.LET(_xlpm.RESULT,_xlfn.XLOOKUP(G41,BK_CDN!$R$10:$R$84,BK_CDN!$AG$10:$AG$84,0),IF(_xlpm.RESULT=0,"",_xlpm.RESULT))*-1 -> 5454.2 | O41: =_xlfn.LET(_xlpm.RESULT,_xlfn.XLOOKUP(G41,BK_CDN!$R$10:$R$84,BK_CDN!$AE$10:$AE$84,0),IF(_xlpm.RESULT=0,"",_xlpm.RESULT))*-1 -> 4816.12 | P41: =IF(H41="","",(-N41+O41))*-1 -> 638.08
I43: =SUM(I27:I42) -> 6 | J43: =SUM(J27:J42) -> 9 | K43: =SUM(K27:K42) -> 622 | N43: =SUM(N27:N42) -> 109486.56 | O43: =SUM(O27:O42) -> 109667.01 | P43: =SUM(P27:P42) -> -180.45
G46: US
